adding: data/ (256 bytes security) (stored 0%)
adding: data/design.rda (188 bytes security) (deflated 1%)
adding: data/exp.arr.rda (188 bytes security) (deflated 0%)
adding: DESCRIPTION (188 bytes security) (deflated 37%)
adding: doc/ (256 bytes security) (stored 0%)
adding: doc/fdrame.pdf (188 bytes security) (deflated 5%)
adding: doc/fdrame.Rnw (188 bytes security) (deflated 59%)
adding: doc/index.html (188 bytes security) (deflated 55%)
adding: help/ (256 bytes security) (stored 0%)
adding: help/aliases.rds (188 bytes security) (stored 0%)
adding: help/AnIndex (188 bytes security) (deflated 72%)
adding: help/fdrame.rdb (188 bytes security) (deflated 1%)
adding: help/fdrame.rdx (188 bytes security) (stored 0%)
adding: help/paths.rds (188 bytes security) (stored 0%)
adding: html/ (256 bytes security) (stored 0%)
adding: html/00Index.html (188 bytes security) (deflated 55%)
adding: html/R.css (188 bytes security) (deflated 70%)
adding: INDEX (188 bytes security) (deflated 47%)
adding: libs/ (256 bytes security) (stored 0%)
adding: libs/i386/ (256 bytes security) (stored 0%)
adding: libs/i386/fdrame.dll (188 bytes security) (deflated 53%)
adding: libs/x64/ (256 bytes security) (stored 0%)
adding: libs/x64/fdrame.dll (188 bytes security) (deflated 55%)
adding: MD5 (188 bytes security) (deflated 42%)
adding: Meta/ (256 bytes security) (stored 0%)
adding: Meta/data.rds (188 bytes security) (stored 0%)
adding: Meta/hsearch.rds (188 bytes security) (stored 0%)
adding: Meta/links.rds (188 bytes security) (stored 0%)
adding: Meta/nsInfo.rds (188 bytes security) (stored 0%)
adding: Meta/package.rds (188 bytes security) (stored 0%)
adding: Meta/Rd.rds (188 bytes security) (stored 0%)
adding: Meta/vignette.rds (188 bytes security) (stored 0%)
adding: NAMESPACE (188 bytes security) (deflated 55%)
adding: R/ (256 bytes security) (stored 0%)
adding: R/fdrame (188 bytes security) (deflated 41%)
adding: R/fdrame.rdb (188 bytes security) (deflated 5%)
adding: R/fdrame.rdx (188 bytes security) (stored 0%)