Scanning files
adding: data/ (256 bytes security) (stored 0%)
adding: data/eSetExample.rda (188 bytes security) (deflated 1%)
adding: data/exprsExample.rda (188 bytes security) (deflated 1%)
adding: data/hugene10stCONTROL.rda (188 bytes security) (deflated 49%)
adding: data/mogene10stCONTROL.rda (188 bytes security) (deflated 60%)
adding: data/pDataExample.rda (188 bytes security) (stored 0%)
adding: data/QC.rda (188 bytes security) (stored 0%)
adding: DESCRIPTION (188 bytes security) (deflated 48%)
adding: doc/ (256 bytes security) (stored 0%)
adding: doc/ArrayTools.pdf (188 bytes security) (deflated 7%)
adding: doc/ArrayTools.R (188 bytes security) (deflated 81%)
adding: doc/ArrayTools.Rnw (188 bytes security) (deflated 65%)
adding: doc/index.html (188 bytes security) (deflated 58%)
adding: help/ (256 bytes security) (stored 0%)
adding: help/aliases.rds (188 bytes security) (stored 0%)
adding: help/AnIndex (188 bytes security) (deflated 84%)
adding: help/ArrayTools.rdb (188 bytes security) (deflated 3%)
adding: help/ArrayTools.rdx (188 bytes security) (stored 0%)
adding: help/paths.rds (188 bytes security) (stored 0%)
adding: html/ (256 bytes security) (stored 0%)
adding: html/00Index.html (188 bytes security) (deflated 88%)
adding: html/R.css (188 bytes security) (deflated 70%)
adding: INDEX (188 bytes security) (deflated 79%)
adding: MD5 (188 bytes security) (deflated 44%)
adding: Meta/ (256 bytes security) (stored 0%)
adding: Meta/data.rds (188 bytes security) (stored 0%)
adding: Meta/hsearch.rds (188 bytes security) (stored 0%)
adding: Meta/links.rds (188 bytes security) (stored 0%)
adding: Meta/nsInfo.rds (188 bytes security) (stored 0%)
adding: Meta/package.rds (188 bytes security) (stored 0%)
adding: Meta/Rd.rds (188 bytes security) (stored 0%)
adding: Meta/vignette.rds (188 bytes security) (stored 0%)
adding: NAMESPACE (188 bytes security) (deflated 60%)
adding: R/ (256 bytes security) (stored 0%)
adding: R/ArrayTools (188 bytes security) (deflated 41%)
adding: R/ArrayTools.rdb (188 bytes security) (deflated 25%)
adding: R/ArrayTools.rdx (188 bytes security) (deflated 1%)