Back to the "Multiple platform build/check report" | [A] B C D E F G H I J K L M N O P Q R S T U V W X Y Z |
This page was generated on 2014-04-05 09:52:19 -0700 (Sat, 05 Apr 2014).
Package 31/750 | Hostname | OS / Arch | BUILD | CHECK | BUILD BIN | ||||
AgiMicroRna 2.12.0 Pedro Lopez-Romero
| zin1 | Linux (Ubuntu 12.04.4 LTS) / x86_64 | OK | OK | |||||
moscato1 | Windows Server 2008 R2 Enterprise SP1 (64-bit) / x64 | OK | OK | OK | |||||
perceval | Mac OS X Snow Leopard (10.6.8) / x86_64 | OK | OK | [ OK ] |
Package: AgiMicroRna |
Version: 2.12.0 |
Command: rm -rf AgiMicroRna.buildbin-libdir && mkdir AgiMicroRna.buildbin-libdir && /Users/biocbuild/BBS/utils/build-universal.sh AgiMicroRna_2.12.0.tar.gz /Library/Frameworks/R.framework/Versions/Current/Resources/bin/R AgiMicroRna.buildbin-libdir |
StartedAt: 2014-04-05 05:13:48 -0700 (Sat, 05 Apr 2014) |
EndedAt: 2014-04-05 05:14:57 -0700 (Sat, 05 Apr 2014) |
EllapsedTime: 68.9 seconds |
RetCode: 0 |
Status: OK |
PackageFile: AgiMicroRna_2.12.0.tgz |
PackageFileSize: 1.816 MiB |
>>>>>>> >>>>>>> INSTALLATION WITH 'R CMD INSTALL --preclean --no-multiarch --library=AgiMicroRna.buildbin-libdir AgiMicroRna_2.12.0.tar.gz' >>>>>>> * installing *source* package ‘AgiMicroRna’ ... ** R ** data ** inst ** preparing package for lazy loading ** help *** installing help indices ** building package indices ** installing vignettes ** testing if installed package can be loaded * DONE (AgiMicroRna)