prebsdata 0.99.4 Karolis Uziela
Snapshot Date: 2013-10-08 10:15:19 -0700 (Tue, 08 Oct 2013) | URL: https://hedgehog.fhcrc.org/bioc-data/trunk/experiment/pkgs/prebsdata | Last Changed Rev: 2330 / Revision: 2510 | Last Changed Date: 2013-04-16 03:55:03 -0700 (Tue, 16 Apr 2013) |
| george2 | Linux (Ubuntu 12.04.1 LTS) / x86_64 | OK | OK | |
moscato2 | Windows Server 2008 R2 Enterprise SP1 (64-bit) / x64 | OK | OK | [ OK ] |
petty | Mac OS X Snow Leopard (10.6.8) / x86_64 | OK | OK | OK |
install for i386
* installing *source* package 'prebsdata' ...
** inst
** help
No man pages found in package 'prebsdata'
*** installing help indices
** building package indices
** installing vignettes
** testing if installed package can be loaded
install for x64
* installing *source* package 'prebsdata' ...
** testing if installed package can be loaded
* MD5 sums
packaged installation of 'prebsdata' as prebsdata_0.99.4.zip
* DONE (prebsdata)