Back to the "Multiple platform build/check report" |
This page was generated on 2013-10-08 16:07:33 -0700 (Tue, 08 Oct 2013).
Package 44/156 | Hostname | OS / Arch | BUILD | CHECK | BUILD BIN | ||||
EatonEtAlChIPseq 0.0.9 Patrick Aboyoun
| george2 | Linux (Ubuntu 12.04.1 LTS) / x86_64 | OK | OK | |||||
moscato2 | Windows Server 2008 R2 Enterprise SP1 (64-bit) / x64 | OK | OK | OK | |||||
petty | Mac OS X Snow Leopard (10.6.8) / x86_64 | OK | OK | [ OK ] |
Package: EatonEtAlChIPseq |
Version: 0.0.9 |
Command: rm -rf EatonEtAlChIPseq.buildbin-libdir && mkdir EatonEtAlChIPseq.buildbin-libdir && /Users/biocbuild/BBS/utils/build-universal.sh EatonEtAlChIPseq_0.0.9.tar.gz /Library/Frameworks/R.framework/Versions/Current/Resources/bin/R EatonEtAlChIPseq.buildbin-libdir |
StartedAt: 2013-10-08 14:50:30 -0700 (Tue, 08 Oct 2013) |
EndedAt: 2013-10-08 14:54:39 -0700 (Tue, 08 Oct 2013) |
EllapsedTime: 249.1 seconds |
RetCode: 0 |
Status: OK |
PackageFile: EatonEtAlChIPseq_0.0.9.tgz |
PackageFileSize: 20.51 MiB |
>>>>>>> >>>>>>> INSTALLATION WITH 'R CMD INSTALL --preclean --no-multiarch --library=EatonEtAlChIPseq.buildbin-libdir EatonEtAlChIPseq_0.0.9.tar.gz' >>>>>>> * installing *source* package 'EatonEtAlChIPseq' ... ** data ** inst ** help *** installing help indices ** building package indices ** testing if installed package can be loaded * DONE (EatonEtAlChIPseq)