minfi 1.5.6 Kasper Daniel Hansen
Snapshot Date: 2013-03-23 17:02:20 -0700 (Sat, 23 Mar 2013) | URL: https://hedgehog.fhcrc.org/bioconductor/trunk/madman/Rpacks/minfi | Last Changed Rev: 74477 / Revision: 74756 | Last Changed Date: 2013-03-16 21:17:51 -0700 (Sat, 16 Mar 2013) |
| george2 | Linux (Ubuntu 12.04.1 LTS) / x86_64 | OK | OK | |
moscato2 | Windows Server 2008 R2 Enterprise SP1 (64-bit) / x64 | OK | OK | OK |
petty | Mac OS X Leopard (10.5.8) / i386 | OK | OK | OK |
pelham | Mac OS X Snow Leopard (10.6.8) / x86_64 | OK | [ OK ] | OK |
* using log directory '/Users/biocbuild/bbs-2.12-bioc/meat/minfi.Rcheck'
* using R version 3.0.0 beta (2013-03-21 r62346)
* using platform: x86_64-apple-darwin10.8.0 (64-bit)
* using session charset: ASCII
* using option '--no-vignettes'
* checking for file 'minfi/DESCRIPTION' ... OK
* this is package 'minfi' version '1.5.6'
* checking package namespace information ... OK
* checking package dependencies ... OK
* checking if this is a source package ... OK
* checking if there is a namespace ... OK
* checking for hidden files and directories ... OK
* checking for portable file names ... OK
* checking for sufficient/correct file permissions ... OK
* checking whether package 'minfi' can be installed ... [22s/22s] OK
* checking installed package size ... OK
* checking package directory ... OK
* checking DESCRIPTION meta-information ... OK
* checking top-level files ... OK
* checking for left-over files ... OK
* checking index information ... OK
* checking package subdirectories ... OK
* checking R files for non-ASCII characters ... OK
* checking R files for syntax errors ... OK
* checking whether the package can be loaded ... OK
* checking whether the package can be loaded with stated dependencies ... OK
* checking whether the package can be unloaded cleanly ... OK
* checking whether the namespace can be loaded with stated dependencies ... OK
* checking whether the namespace can be unloaded cleanly ... OK
* checking for unstated dependencies in R code ... OK
* checking S3 generic/method consistency ... OK
* checking replacement functions ... OK
* checking foreign function calls ... OK
* checking R code for possible problems ... OK
* checking Rd files ... OK
* checking Rd metadata ... OK
* checking Rd cross-references ... OK
* checking for missing documentation entries ... OK
* checking for code/documentation mismatches ... OK
* checking Rd \usage sections ... OK
* checking Rd contents ... OK
* checking for unstated dependencies in examples ... OK
* checking installed files from 'inst/doc' ... OK
* checking examples ... [394s/405s] OK
Examples with CPU or elapsed time > 5s
user system elapsed
preprocessSwan 115.703 18.295 138.408
plotBetasByType 52.624 8.647 61.835
detectionP 39.703 3.170 42.994
densityBeanPlot 31.341 1.746 33.351
preprocessIllumina 21.534 1.561 23.666
densityPlot 18.142 1.697 20.042
read.450k.exp 15.613 1.447 17.882
preprocessRaw 13.564 1.450 15.147
read.450k 12.689 1.405 17.186
IlluminaMethylationManifest-class 6.736 0.428 7.349
controlStripPlot 6.492 0.342 7.008
* checking for unstated dependencies in tests ... OK
* checking tests ...
Running 'runTests.R' [156s/158s]
[157s/159s] OK
* checking for unstated dependencies in vignettes ... OK
* checking package vignettes in 'inst/doc' ... OK
* checking running R code from vignettes ... SKIPPED
* checking re-building of vignettes ... SKIPPED
* checking PDF version of manual ... OK