flowCore 1.25.13 M.Jiang
Snapshot Date: 2013-03-23 17:02:20 -0700 (Sat, 23 Mar 2013) | URL: https://hedgehog.fhcrc.org/bioconductor/trunk/madman/Rpacks/flowCore | Last Changed Rev: 74751 / Revision: 74756 | Last Changed Date: 2013-03-23 12:54:15 -0700 (Sat, 23 Mar 2013) |
| george2 | Linux (Ubuntu 12.04.1 LTS) / x86_64 | OK | OK | |
moscato2 | Windows Server 2008 R2 Enterprise SP1 (64-bit) / x64 | OK | OK | OK |
petty | Mac OS X Leopard (10.5.8) / i386 | OK | OK | OK |
pelham | Mac OS X Snow Leopard (10.6.8) / x86_64 | OK | [ OK ] | OK |
* using log directory '/Users/biocbuild/bbs-2.12-bioc/meat/flowCore.Rcheck'
* using R version 3.0.0 beta (2013-03-21 r62346)
* using platform: x86_64-apple-darwin10.8.0 (64-bit)
* using session charset: ASCII
* using option '--no-vignettes'
* checking for file 'flowCore/DESCRIPTION' ... OK
* this is package 'flowCore' version '1.25.13'
* checking package namespace information ... OK
* checking package dependencies ... OK
* checking if this is a source package ... OK
* checking if there is a namespace ... OK
* checking for hidden files and directories ... OK
* checking for portable file names ... OK
* checking for sufficient/correct file permissions ... OK
* checking whether package 'flowCore' can be installed ... [20s/24s] OK
* checking installed package size ... NOTE
installed size is 8.7Mb
sub-directories of 1Mb or more:
data 5.0Mb
doc 1.2Mb
extdata 1.1Mb
* checking package directory ... OK
* checking DESCRIPTION meta-information ... OK
* checking top-level files ... OK
* checking for left-over files ... OK
* checking index information ... OK
* checking package subdirectories ... OK
* checking R files for non-ASCII characters ... OK
* checking R files for syntax errors ... OK
* checking whether the package can be loaded ... OK
* checking whether the package can be loaded with stated dependencies ... OK
* checking whether the package can be unloaded cleanly ... OK
* checking whether the namespace can be loaded with stated dependencies ... OK
* checking whether the namespace can be unloaded cleanly ... OK
* checking for unstated dependencies in R code ... OK
* checking S3 generic/method consistency ... OK
* checking replacement functions ... OK
* checking foreign function calls ... OK
* checking R code for possible problems ... NOTE
[[<-,filterSet-character-ANY-formula : harvest: warning in exists(f,
env = x@env): partial argument match of 'env' to 'envir'
coerce,environment-flowSet: warning in ls(env = from): partial argument
match of 'env' to 'envir'
coerce,environment-flowSet : <anonymous>: warning in get(f, env =
from): partial argument match of 'env' to 'envir'
coerce,filterSet-list: warning in ls(env = from@env): partial argument
match of 'env' to 'envir'
identifier,filterReference: warning in exists(object@name, env =
object@env): partial argument match of 'env' to 'envir'
names,filterSet: warning in ls(env = x@env): partial argument match of
'env' to 'envir'
plot,workFlow-missing : <anonymous>: warning in edgeData(..., at =
"actionItem"): partial argument match of 'at' to 'attr'
show,filterReference: warning in exists(object@name, env = object@env):
partial argument match of 'env' to 'envir'
summary,transform: warning in ls(env = e): partial argument match of
'env' to 'envir'
* checking Rd files ... OK
* checking Rd metadata ... OK
* checking Rd cross-references ... OK
* checking for missing documentation entries ... OK
* checking for code/documentation mismatches ... OK
* checking Rd \usage sections ... OK
* checking Rd contents ... OK
* checking for unstated dependencies in examples ... OK
* checking contents of 'data' directory ... OK
* checking data for non-ASCII characters ... OK
* checking data for ASCII and uncompressed saves ... OK
* checking line endings in C/C++/Fortran sources/headers ... OK
* checking line endings in Makefiles ... OK
* checking for portable use of $(BLAS_LIBS) and $(LAPACK_LIBS) ... OK
* checking compiled code ... OK
* checking installed files from 'inst/doc' ... OK
* checking examples ... [80s/82s] OK
Examples with CPU or elapsed time > 5s
user system elapsed
biexponentialTransform 13.061 2.103 15.562
flowFrame-class 5.241 0.513 5.836
flowSet-class 5.002 0.620 5.666
lnTransform 4.044 1.250 5.323
* checking for unstated dependencies in vignettes ... OK
* checking package vignettes in 'inst/doc' ... OK
* checking running R code from vignettes ... SKIPPED
* checking re-building of vignettes ... SKIPPED
* checking PDF version of manual ... OK
NOTE: There were 2 notes.
See
'/Users/biocbuild/bbs-2.12-bioc/meat/flowCore.Rcheck/00check.log'
for details.
* installing *source* package 'flowCore' ...
** libs
llvm-g++-4.2 -arch x86_64 -I/Library/Frameworks/R.framework/Resources/include -DNDEBUG -I/usr/local/include -fPIC -mtune=core2 -g -O2 -c FastLogicle.cpp -o FastLogicle.o
llvm-g++-4.2 -arch x86_64 -I/Library/Frameworks/R.framework/Resources/include -DNDEBUG -I/usr/local/include -fPIC -mtune=core2 -g -O2 -c Logicle.cpp -o Logicle.o
llvm-gcc-4.2 -arch x86_64 -std=gnu99 -I/Library/Frameworks/R.framework/Resources/include -DNDEBUG -I/usr/local/include -fPIC -mtune=core2 -g -O2 -c biexponential.c -o biexponential.o
llvm-gcc-4.2 -arch x86_64 -std=gnu99 -I/Library/Frameworks/R.framework/Resources/include -DNDEBUG -I/usr/local/include -fPIC -mtune=core2 -g -O2 -c inPolygon.c -o inPolygon.o
llvm-gcc-4.2 -arch x86_64 -std=gnu99 -I/Library/Frameworks/R.framework/Resources/include -DNDEBUG -I/usr/local/include -fPIC -mtune=core2 -g -O2 -c inPolytope.c -o inPolytope.o
llvm-gcc-4.2 -arch x86_64 -std=gnu99 -I/Library/Frameworks/R.framework/Resources/include -DNDEBUG -I/usr/local/include -fPIC -mtune=core2 -g -O2 -c init.c -o init.o
llvm-g++-4.2 -arch x86_64 -I/Library/Frameworks/R.framework/Resources/include -DNDEBUG -I/usr/local/include -fPIC -mtune=core2 -g -O2 -c logicleTransform.cpp -o logicleTransform.o
llvm-gcc-4.2 -arch x86_64 -std=gnu99 -I/Library/Frameworks/R.framework/Resources/include -DNDEBUG -I/usr/local/include -fPIC -mtune=core2 -g -O2 -c zeroin.c -o zeroin.o
llvm-g++-4.2 -arch x86_64 -dynamiclib -Wl,-headerpad_max_install_names -undefined dynamic_lookup -single_module -multiply_defined suppress -L/usr/local/lib -o flowCore.so FastLogicle.o Logicle.o biexponential.o inPolygon.o inPolytope.o init.o logicleTransform.o zeroin.o -F/Library/Frameworks/R.framework/.. -framework R -Wl,-framework -Wl,CoreFoundation
installing to /Users/biocbuild/bbs-2.12-bioc/meat/flowCore.Rcheck/flowCore/libs
** R
** data
** inst
** preparing package for lazy loading
Creating a new generic function for 'filter' in package 'flowCore'
Creating a new generic function for 'ls' in package 'flowCore'
** help
*** installing help indices
** building package indices
** installing vignettes
'HowTo-flowCore.Rnw'
** testing if installed package can be loaded
* DONE (flowCore)