externalVector 1.25.2 Bioconductor Package Maintainer
Snapshot Date: 2013-03-23 17:02:20 -0700 (Sat, 23 Mar 2013) | URL: https://hedgehog.fhcrc.org/bioconductor/trunk/madman/Rpacks/externalVector | Last Changed Rev: 70653 / Revision: 74756 | Last Changed Date: 2012-10-18 10:05:41 -0700 (Thu, 18 Oct 2012) |
| george2 | Linux (Ubuntu 12.04.1 LTS) / x86_64 | OK | OK | |
moscato2 | Windows Server 2008 R2 Enterprise SP1 (64-bit) / x64 | OK | OK | OK |
petty | Mac OS X Leopard (10.5.8) / i386 | OK | OK | OK |
pelham | Mac OS X Snow Leopard (10.6.8) / x86_64 | OK | OK | [ OK ] |
* installing *source* package 'externalVector' ...
** libs
llvm-gcc-4.2 -arch x86_64 -std=gnu99 -I/Library/Frameworks/R.framework/Resources/include -DNDEBUG -I/usr/local/include -fPIC -mtune=core2 -g -O2 -c allocator.c -o allocator.o
llvm-gcc-4.2 -arch x86_64 -std=gnu99 -I/Library/Frameworks/R.framework/Resources/include -DNDEBUG -I/usr/local/include -fPIC -mtune=core2 -g -O2 -c arraySummary.c -o arraySummary.o
llvm-gcc-4.2 -arch x86_64 -std=gnu99 -I/Library/Frameworks/R.framework/Resources/include -DNDEBUG -I/usr/local/include -fPIC -mtune=core2 -g -O2 -c coerce.c -o coerce.o
coerce.c: In function 'ComplexFromString':
coerce.c:213: warning: initialization from incompatible pointer type
llvm-gcc-4.2 -arch x86_64 -std=gnu99 -I/Library/Frameworks/R.framework/Resources/include -DNDEBUG -I/usr/local/include -fPIC -mtune=core2 -g -O2 -c externalVector.c -o externalVector.o
llvm-gcc-4.2 -arch x86_64 -std=gnu99 -I/Library/Frameworks/R.framework/Resources/include -DNDEBUG -I/usr/local/include -fPIC -mtune=core2 -g -O2 -c groups.c -o groups.o
llvm-gcc-4.2 -arch x86_64 -std=gnu99 -I/Library/Frameworks/R.framework/Resources/include -DNDEBUG -I/usr/local/include -fPIC -mtune=core2 -g -O2 -c math.c -o math.o
llvm-gcc-4.2 -arch x86_64 -std=gnu99 -I/Library/Frameworks/R.framework/Resources/include -DNDEBUG -I/usr/local/include -fPIC -mtune=core2 -g -O2 -c slice.c -o slice.o
llvm-gcc-4.2 -arch x86_64 -std=gnu99 -I/Library/Frameworks/R.framework/Resources/include -DNDEBUG -I/usr/local/include -fPIC -mtune=core2 -g -O2 -c storage.c -o storage.o
llvm-gcc-4.2 -arch x86_64 -std=gnu99 -I/Library/Frameworks/R.framework/Resources/include -DNDEBUG -I/usr/local/include -fPIC -mtune=core2 -g -O2 -c subscript.c -o subscript.o
subscript.c: In function 'SubscriptList':
subscript.c:422: warning: assignment from incompatible pointer type
subscript.c:464: warning: assignment from incompatible pointer type
subscript.c:478: warning: assignment from incompatible pointer type
llvm-gcc-4.2 -arch x86_64 -std=gnu99 -dynamiclib -Wl,-headerpad_max_install_names -undefined dynamic_lookup -single_module -multiply_defined suppress -L/usr/local/lib -o externalVector.so allocator.o arraySummary.o coerce.o externalVector.o groups.o math.o slice.o storage.o subscript.o -F/Library/Frameworks/R.framework/.. -framework R -Wl,-framework -Wl,CoreFoundation
installing to /Users/biocbuild/bbs-2.12-bioc/meat/externalVector.buildbin-libdir/externalVector/libs
** R
** preparing package for lazy loading
Creating a new generic function for 'setNames' in package 'externalVector'
Creating a generic function for 'match' from package 'base' in package 'externalVector'
Creating a generic function for 'as.vector' from package 'base' in package 'externalVector'
Creating a generic function for 'as.single' from package 'base' in package 'externalVector'
Creating a generic function for 'as.list' from package 'base' in package 'externalVector'
Creating a generic function for 'as.matrix' from package 'base' in package 'externalVector'
Creating a generic function for 'as.data.frame' from package 'base' in package 'externalVector'
Creating a generic function for 'colSums' from package 'base' in package 'externalVector'
Creating a generic function for 'colMeans' from package 'base' in package 'externalVector'
Creating a generic function for 'rowSums' from package 'base' in package 'externalVector'
Creating a generic function for 'rowMeans' from package 'base' in package 'externalVector'
Creating a generic function for 'apply' from package 'base' in package 'externalVector'
Creating a generic function for 'lapply' from package 'base' in package 'externalVector'
Creating a generic function for 'sapply' from package 'base' in package 'externalVector'
Creating a generic function for 'mean' from package 'base' in package 'externalVector'
Creating a generic function for 'median' from package 'stats' in package 'externalVector'
Creating a new generic function for 'var' in package 'externalVector'
Creating a new generic function for 'cov' in package 'externalVector'
Creating a new generic function for 'cor' in package 'externalVector'
Creating a generic function for 'cov2cor' from package 'stats' in package 'externalVector'
** help
*** installing help indices
** building package indices
** testing if installed package can be loaded
packaged installation of 'externalVector' as 'externalVector_1.25.2.tgz'
* DONE (externalVector)