VegaMC 2.3.0 Sandro Morganella
Snapshot Date: 2013-03-23 17:02:20 -0700 (Sat, 23 Mar 2013) | URL: https://hedgehog.fhcrc.org/bioconductor/trunk/madman/Rpacks/VegaMC | Last Changed Rev: 70052 / Revision: 74756 | Last Changed Date: 2012-10-01 15:43:56 -0700 (Mon, 01 Oct 2012) |
| george2 | Linux (Ubuntu 12.04.1 LTS) / x86_64 | OK | OK | |
moscato2 | Windows Server 2008 R2 Enterprise SP1 (64-bit) / x64 | OK | OK | OK |
petty | Mac OS X Leopard (10.5.8) / i386 | OK | OK | OK |
pelham | Mac OS X Snow Leopard (10.6.8) / x86_64 | OK | OK | [ OK ] |
* installing *source* package 'VegaMC' ...
** libs
llvm-gcc-4.2 -arch x86_64 -std=gnu99 -I/Library/Frameworks/R.framework/Resources/include -DNDEBUG -I/usr/local/include -fPIC -mtune=core2 -g -O2 -c run_vegaMC.c -o run_vegaMC.o
llvm-gcc-4.2 -arch x86_64 -std=gnu99 -I/Library/Frameworks/R.framework/Resources/include -DNDEBUG -I/usr/local/include -fPIC -mtune=core2 -g -O2 -c sort_data.c -o sort_data.o
llvm-gcc-4.2 -arch x86_64 -std=gnu99 -I/Library/Frameworks/R.framework/Resources/include -DNDEBUG -I/usr/local/include -fPIC -mtune=core2 -g -O2 -c vegaMC.c -o vegaMC.o
llvm-gcc-4.2 -arch x86_64 -std=gnu99 -dynamiclib -Wl,-headerpad_max_install_names -undefined dynamic_lookup -single_module -multiply_defined suppress -L/usr/local/lib -o VegaMC.so run_vegaMC.o sort_data.o vegaMC.o -F/Library/Frameworks/R.framework/.. -framework R -Wl,-framework -Wl,CoreFoundation
installing to /Users/biocbuild/bbs-2.12-bioc/meat/VegaMC.buildbin-libdir/VegaMC/libs
** R
** inst
** preparing package for lazy loading
** help
*** installing help indices
** building package indices
** installing vignettes
'VegaMC.Rnw'
** testing if installed package can be loaded
packaged installation of 'VegaMC' as 'VegaMC_2.3.0.tgz'
* DONE (VegaMC)