VanillaICE 1.21.10 Robert Scharpf
Snapshot Date: 2013-01-15 17:01:14 -0800 (Tue, 15 Jan 2013) | URL: https://hedgehog.fhcrc.org/bioconductor/trunk/madman/Rpacks/VanillaICE | Last Changed Rev: 72298 / Revision: 72575 | Last Changed Date: 2013-01-04 13:18:09 -0800 (Fri, 04 Jan 2013) |
| george2 | Linux (Ubuntu 12.04.1 LTS) / x86_64 | OK | WARNINGS | |
lamb2 | Linux (openSUSE 11.4) / x86_64 | [ OK ] | WARNINGS | |
moscato2 | Windows Server 2008 R2 Enterprise SP1 (64-bit) / x64 | OK | WARNINGS | OK |
petty | Mac OS X Leopard (10.5.8) / i386 | OK | WARNINGS | OK |
* checking for file ‘VanillaICE/DESCRIPTION’ ... OK
* preparing ‘VanillaICE’:
* checking DESCRIPTION meta-information ... OK
* cleaning src
* installing the package to re-build vignettes
* creating vignettes ... OK
Warning in file.copy(c(vigns$docs, pdfs), doc_dir) :
problem copying /tmp/RtmprYFvtg/Rbuild518923a230a8/VanillaICE/vignettes/VanillaICE.pdf to inst/doc/VanillaICE.pdf: No such file or directory
Warning in file.copy(c(vigns$docs, pdfs), doc_dir) :
problem copying /tmp/RtmprYFvtg/Rbuild518923a230a8/VanillaICE/vignettes/crlmmDownstream.pdf to inst/doc/crlmmDownstream.pdf: No such file or directory
* cleaning src
* checking for LF line-endings in source and make files
* checking for empty or unneeded directories
WARNING: directory ‘VanillaICE/inst/testing’ is empty
* looking to see if a ‘data/datalist’ file should be added
* building ‘VanillaICE_1.21.10.tar.gz’