ExpressionView 1.10.1 Gabor Csardi
Snapshot Date: 2013-03-24 16:21:20 -0700 (Sun, 24 Mar 2013) | URL: https://hedgehog.fhcrc.org/bioconductor/branches/RELEASE_2_11/madman/Rpacks/ExpressionView | Last Changed Rev: 73855 / Revision: 74773 | Last Changed Date: 2013-03-01 10:54:40 -0800 (Fri, 01 Mar 2013) |
| lamb1 | Linux (openSUSE 12.1) / x86_64 | OK | OK | |
moscato1 | Windows Server 2008 R2 Enterprise SP1 (64-bit) / x64 | OK | OK | [ OK ] |
perceval | Mac OS X Leopard (10.5.8) / i386 | OK | OK | OK |
install for i386
* installing *source* package 'ExpressionView' ...
** libs
g++ -m32 -I"D:/biocbld/BBS-2˜1.11-/R/include" -DNDEBUG -I"d:/RCompile/CRANpkg/extralibs64/local/include" -O2 -Wall -mtune=core2 -c order.cpp -o order.o
g++ -m32 -I"D:/biocbld/BBS-2˜1.11-/R/include" -DNDEBUG -I"d:/RCompile/CRANpkg/extralibs64/local/include" -O2 -Wall -mtune=core2 -c orderclusters.cpp -o orderclusters.o
g++ -m32 -shared -s -static-libgcc -o ExpressionView.dll tmp.def order.o orderclusters.o -Ld:/RCompile/CRANpkg/extralibs64/local/lib/i386 -Ld:/RCompile/CRANpkg/extralibs64/local/lib -LD:/biocbld/BBS-2˜1.11-/R/bin/i386 -lR
installing to D:/biocbld/bbs-2.11-bioc/meat/ExpressionView.buildbin-libdir/ExpressionView/libs/i386
** R
** inst
** preparing package for lazy loading
in method for 'ExportEV' with signature 'biclusters="Biclust"': no definition for class "Biclust"
** help
*** installing help indices
** building package indices
** installing vignettes
'ExpressionView.format.Rnw'
'ExpressionView.ordering.Rnw'
'ExpressionView.tutorial.Rnw'
** testing if installed package can be loaded
install for x64
* installing *source* package 'ExpressionView' ...
** libs
g++ -m64 -I"D:/biocbld/BBS-2˜1.11-/R/include" -DNDEBUG -I"d:/RCompile/CRANpkg/extralibs64/local/include" -O2 -Wall -mtune=core2 -c order.cpp -o order.o
g++ -m64 -I"D:/biocbld/BBS-2˜1.11-/R/include" -DNDEBUG -I"d:/RCompile/CRANpkg/extralibs64/local/include" -O2 -Wall -mtune=core2 -c orderclusters.cpp -o orderclusters.o
g++ -m64 -shared -s -static-libgcc -o ExpressionView.dll tmp.def order.o orderclusters.o -Ld:/RCompile/CRANpkg/extralibs64/local/lib/x64 -Ld:/RCompile/CRANpkg/extralibs64/local/lib -LD:/biocbld/BBS-2˜1.11-/R/bin/x64 -lR
installing to D:/biocbld/bbs-2.11-bioc/meat/ExpressionView.buildbin-libdir/ExpressionView/libs/x64
** testing if installed package can be loaded
* MD5 sums
packaged installation of 'ExpressionView' as ExpressionView_1.10.1.zip
* DONE (ExpressionView)