regioneR 1.1.2 Bernat Gel
Snapshot Date: 2015-08-19 16:24:33 -0700 (Wed, 19 Aug 2015) | URL: https://hedgehog.fhcrc.org/bioconductor/trunk/madman/Rpacks/regioneR | Last Changed Rev: 106433 / Revision: 107602 | Last Changed Date: 2015-07-15 09:10:19 -0700 (Wed, 15 Jul 2015) |
| zin1 | Linux (Ubuntu 14.04.2 LTS) / x86_64 | ERROR | ERROR | skipped | | |
moscato1 | Windows Server 2008 R2 Enterprise SP1 (64-bit) / x64 | ERROR | [ ERROR ] | skipped | skipped | |
perceval | Mac OS X Snow Leopard (10.6.8) / x86_64 | ERROR | ERROR | skipped | skipped | |
oaxaca | Mac OS X Mavericks (10.9.5) / x86_64 | ERROR | ERROR | skipped | skipped | |
##############################################################################
##############################################################################
###
### Running command:
###
### chmod a+r regioneR -R && D:\biocbld\bbs-3.2-bioc\R\bin\R.exe CMD build --keep-empty-dirs --no-resave-data regioneR
###
##############################################################################
##############################################################################
* checking for file 'regioneR/DESCRIPTION' ... OK
* preparing 'regioneR':
* checking DESCRIPTION meta-information ... OK
* installing the package to build vignettes
Warning: running command '"D:/biocbld/bbs-3.2-bioc/R/bin/x64/Rcmd.exe" INSTALL -l "D:\biocbld\bbs-3.2-bioc\tmpdir\Rtmpk9eAXP\Rinst1c80715446bd" --no-multiarch "D:/biocbld/bbs-3.2-bioc/tmpdir/Rtmpk9eAXP/Rbuild1c8039b643a3/regioneR"' had status 1
-----------------------------------
* installing *source* package 'regioneR' ...
** R
** inst
** preparing package for lazy loading
** help
*** installing help indices
** building package indices
** installing vignettes
** testing if installed package can be loaded
Error in namespaceExport(ns, exports) :
undefined exports: createFunctionsList
Error: loading failed
Execution halted
ERROR: loading failed
* removing 'D:/biocbld/bbs-3.2-bioc/tmpdir/Rtmpk9eAXP/Rinst1c80715446bd/regioneR'
-----------------------------------
ERROR: package installation failed