eisa 1.21.0 Gabor Csardi
Snapshot Date: 2015-06-14 16:31:12 -0700 (Sun, 14 Jun 2015) | URL: https://hedgehog.fhcrc.org/bioconductor/trunk/madman/Rpacks/eisa | Last Changed Rev: 102594 / Revision: 104948 | Last Changed Date: 2015-04-16 13:02:44 -0700 (Thu, 16 Apr 2015) |
| zin1 | Linux (Ubuntu 14.04.2 LTS) / x86_64 | OK | OK | OK | | |
moscato1 | Windows Server 2008 R2 Enterprise SP1 (64-bit) / x64 | OK | OK | [ OK ] | OK | |
perceval | Mac OS X Snow Leopard (10.6.8) / x86_64 | OK | OK | OK | OK | |
oaxaca | Mac OS X Mavericks (10.9.5) / x86_64 | OK | OK | OK | OK | |
##############################################################################
##############################################################################
###
### Running command:
###
### rm -rf eisa.buildbin-libdir eisa.Rcheck && mkdir eisa.buildbin-libdir eisa.Rcheck && D:\biocbld\bbs-3.2-bioc\R\bin\R.exe CMD INSTALL --build --merge-multiarch --library=eisa.buildbin-libdir eisa_1.21.0.tar.gz >eisa.Rcheck\00install.out 2>&1 && cp eisa.Rcheck\00install.out eisa-install.out && D:\biocbld\bbs-3.2-bioc\R\bin\R.exe CMD check --library=eisa.buildbin-libdir --install="check:eisa-install.out" --force-multiarch --no-vignettes --timings eisa_1.21.0.tar.gz
###
##############################################################################
##############################################################################
* using log directory 'D:/biocbld/bbs-3.2-bioc/meat/eisa.Rcheck'
* using R version 3.2.1 beta (2015-06-07 r68485)
* using platform: x86_64-w64-mingw32 (64-bit)
* using session charset: ISO8859-1
* using option '--no-vignettes'
* checking for file 'eisa/DESCRIPTION' ... OK
* this is package 'eisa' version '1.21.0'
* checking package namespace information ... OK
* checking package dependencies ... OK
* checking if this is a source package ... OK
* checking if there is a namespace ... OK
* checking for hidden files and directories ... OK
* checking for portable file names ... OK
* checking whether package 'eisa' can be installed ... OK
* checking installed package size ... OK
* checking package directory ... OK
* checking 'build' directory ... OK
* checking DESCRIPTION meta-information ... OK
* checking top-level files ... OK
* checking for left-over files ... OK
* checking index information ... OK
* checking package subdirectories ... OK
* checking R files for non-ASCII characters ... OK
* checking R files for syntax errors ... OK
* loading checks for arch 'i386'
** checking whether the package can be loaded ... OK
** checking whether the package can be loaded with stated dependencies ... OK
** checking whether the package can be unloaded cleanly ... OK
** checking whether the namespace can be loaded with stated dependencies ... OK
** checking whether the namespace can be unloaded cleanly ... OK
* loading checks for arch 'x64'
** checking whether the package can be loaded ... OK
** checking whether the package can be loaded with stated dependencies ... OK
** checking whether the package can be unloaded cleanly ... OK
** checking whether the namespace can be loaded with stated dependencies ... OK
** checking whether the namespace can be unloaded cleanly ... OK
* checking dependencies in R code ... NOTE
'library' or 'require' calls in package code:
'GO.db' 'KEGG.db' 'MASS' 'biclust' 'igraph' 'xtable'
Please use :: or requireNamespace() instead.
See section 'Suggested packages' in the 'Writing R Extensions' manual.
Unexported objects imported by ':::' calls:
'Category:::getDataEnv' 'Category:::getKeggToProbeMap'
'Category:::probeToEntrezMapHelper'
See the note in ?`:::` about the use of this operator.
* checking S3 generic/method consistency ... OK
* checking replacement functions ... OK
* checking foreign function calls ... OK
* checking R code for possible problems ... NOTE
ISAHTMLModules: no visible global function definition for 'GO_dbconn'
ISAHTMLModules : go.graph: no visible global function definition for
'graph.data.frame'
ISAHTMLTable: no visible global function definition for 'GO_dbconn'
ISAHTMLTable : f: no visible binding for global variable
'KEGGPATHID2NAME'
ISASweepGraph: no visible global function definition for 'V'
ISASweepGraph: no visible global function definition for 'V<-'
ISASweepGraph: no visible global function definition for
'remove.vertex.attribute'
ISASweepGraphPlot: no visible global function definition for 'V'
gograph: no visible binding for global variable 'GOTERM'
gograph: no visible global function definition for 'GO_dbconn'
gograph: no visible global function definition for 'graph.data.frame'
gograph: no visible global function definition for 'V'
gograph: no visible global function definition for 'vcount'
gograph: no visible global function definition for 'neighborhood'
gograph: no visible global function definition for 'subgraph'
gograph: no visible global function definition for 'V<-'
gograph: no visible global function definition for 'topological.sort'
gograph: no visible global function definition for 'unfold.tree'
gograph: no visible global function definition for 'E'
gograph: no visible global function definition for 'E<-'
gograph: no visible global function definition for
'layout.reingold.tilford'
gographPlot: no visible global function definition for 'V'
html.df: no visible global function definition for 'xtable'
isa.autogen.module : tabulate: no visible binding for global variable
'KEGGPATHID2NAME'
isa.autogen.module : gp: no visible global function definition for
'graph.empty'
isa.autogen.module : ann: no visible global function definition for
'vcount'
isa.autogen.module : ann: no visible global function definition for 'V'
overlap: no visible global function definition for 'isoMDS'
overlap: no visible global function definition for 'graph.adjacency'
overlap: no visible global function definition for 'V'
overlap: no visible global function definition for 'V<-'
overlap: no visible global function definition for 'graph.empty'
overlap: no visible global function definition for 'E'
overlap: no visible global function definition for 'E<-'
overlap: no visible global function definition for
'layout.fruchterman.reingold'
overlap: no visible global function definition for 'layout.drl'
overlap: no visible global function definition for 'ecount'
overlapPlot: no visible global function definition for 'V'
overlapPlot: no visible global function definition for 'layout.norm'
htmlReport,GOListHyperGResult: no visible binding for global variable
'GOTERM'
htmlReport,KEGGListHyperGResult: no visible binding for global variable
'KEGGPATHID2NAME'
* checking Rd files ... OK
* checking Rd metadata ... OK
* checking Rd cross-references ... OK
* checking for missing documentation entries ... OK
* checking for code/documentation mismatches ... OK
* checking Rd \usage sections ... OK
* checking Rd contents ... OK
* checking for unstated dependencies in examples ... OK
* checking contents of 'data' directory ... OK
* checking data for non-ASCII characters ... OK
* checking data for ASCII and uncompressed saves ... OK
* checking installed files from 'inst/doc' ... OK
* checking files in 'vignettes' ... OK
* checking examples ...
** running examples for arch 'i386' ... [164s] OK
Examples with CPU or elapsed time > 5s
user system elapsed
ISA 24.38 0.46 24.87
ISA.html 20.25 1.17 22.94
ISA.sweep 13.90 0.28 14.22
ISA.GO 9.52 0.42 20.25
gograph 7.66 0.22 7.88
ListHyperGParams-class 7.60 0.14 7.88
ListHyperGResult-class 7.47 0.13 7.67
ISA.unique 6.59 0.11 6.69
ISA.iterate 6.47 0.09 6.63
ISAExpressionSet 5.40 0.06 5.49
eisa.biclust 5.16 0.27 6.27
** running examples for arch 'x64' ... [154s] OK
Examples with CPU or elapsed time > 5s
user system elapsed
ISA 24.21 0.76 24.99
ISA.html 21.77 1.05 23.95
ISA.sweep 12.73 0.10 12.87
ISA.GO 10.00 0.11 10.17
gograph 9.06 0.20 9.28
ListHyperGResult-class 8.06 0.25 8.32
ISA.iterate 7.67 0.12 7.80
ListHyperGParams-class 6.68 0.12 6.85
ISA.unique 5.74 0.16 5.90
ISA.normalize 5.63 0.11 5.74
* checking for unstated dependencies in vignettes ... OK
* checking package vignettes in 'inst/doc' ... OK
* checking running R code from vignettes ... SKIPPED
* checking re-building of vignette outputs ... SKIPPED
* checking PDF version of manual ... OK
* DONE
Status: 2 NOTEs
See
'D:/biocbld/bbs-3.2-bioc/meat/eisa.Rcheck/00check.log'
for details.
install for i386
* installing *source* package 'eisa' ...
** R
** data
** inst
** preparing package for lazy loading
in method for 'coerce' with signature '"Biclust","ISAModules"': no definition for class "Biclust"
in method for 'coerce' with signature '"ISAModules","Biclust"': no definition for class "Biclust"
** help
*** installing help indices
** building package indices
** installing vignettes
** testing if installed package can be loaded
install for x64
* installing *source* package 'eisa' ...
** testing if installed package can be loaded
* MD5 sums
packaged installation of 'eisa' as eisa_1.21.0.zip
* DONE (eisa)