HTSanalyzeR 2.21.0 Xin Wang
Snapshot Date: 2015-06-28 16:31:20 -0700 (Sun, 28 Jun 2015) | URL: https://hedgehog.fhcrc.org/bioconductor/trunk/madman/Rpacks/HTSanalyzeR | Last Changed Rev: 102594 / Revision: 105583 | Last Changed Date: 2015-04-16 13:02:44 -0700 (Thu, 16 Apr 2015) |
| zin1 | Linux (Ubuntu 14.04.2 LTS) / x86_64 | OK | ERROR | skipped | | |
moscato1 | Windows Server 2008 R2 Enterprise SP1 (64-bit) / x64 | OK | OK | OK | [ OK ] | |
perceval | Mac OS X Snow Leopard (10.6.8) / x86_64 | OK | ERROR | skipped | skipped | |
oaxaca | Mac OS X Mavericks (10.9.5) / x86_64 | OK | ERROR | skipped | skipped | |
##############################################################################
##############################################################################
###
### Running command:
###
### cd HTSanalyzeR.buildbin-libdir/HTSanalyzeR && zip -r ../../HTSanalyzeR_2.21.0.zip . & cd ../..
###
##############################################################################
##############################################################################
adding: CHANGES (188 bytes security) (deflated 51%)
adding: CITATION (188 bytes security) (deflated 50%)
adding: data/ (256 bytes security) (stored 0%)
adding: data/Biogrid_DM_Interactome.RData (188 bytes security) (deflated 0%)
adding: data/Biogrid_DM_Mat.RData (188 bytes security) (deflated 0%)
adding: data/datalist (188 bytes security) (deflated 33%)
adding: data/KcViab_Data4Enrich.RData (188 bytes security) (deflated 0%)
adding: data/KcViab_GSCA.RData (188 bytes security) (deflated 0%)
adding: data/KcViab_Norm.RData (188 bytes security) (deflated 0%)
adding: data/KcViab_NWA.RData (188 bytes security) (deflated 0%)
adding: data/KcViab_PVals.RData (188 bytes security) (deflated 0%)
adding: DESCRIPTION (188 bytes security) (deflated 56%)
adding: doc/ (256 bytes security) (stored 0%)
adding: doc/HTSanalyzeR-Vignette.pdf (188 bytes security) (deflated 12%)
adding: doc/HTSanalyzeR-Vignette.R (188 bytes security) (deflated 81%)
adding: doc/HTSanalyzeR-Vignette.Rnw (188 bytes security) (deflated 67%)
adding: doc/index.html (188 bytes security) (deflated 59%)
adding: help/ (256 bytes security) (stored 0%)
adding: help/aliases.rds (188 bytes security) (stored 0%)
adding: help/AnIndex (188 bytes security) (deflated 73%)
adding: help/HTSanalyzeR.rdb (188 bytes security) (deflated 1%)
adding: help/HTSanalyzeR.rdx (188 bytes security) (stored 0%)
adding: help/paths.rds (188 bytes security) (stored 0%)
adding: html/ (256 bytes security) (stored 0%)
adding: html/00Index.html (188 bytes security) (deflated 82%)
adding: html/R.css (188 bytes security) (deflated 75%)
adding: INDEX (188 bytes security) (deflated 71%)
adding: MD5 (188 bytes security) (deflated 45%)
adding: Meta/ (256 bytes security) (stored 0%)
adding: Meta/data.rds (188 bytes security) (stored 0%)
adding: Meta/hsearch.rds (188 bytes security) (deflated 0%)
adding: Meta/links.rds (188 bytes security) (stored 0%)
adding: Meta/nsInfo.rds (188 bytes security) (stored 0%)
adding: Meta/package.rds (188 bytes security) (stored 0%)
adding: Meta/Rd.rds (188 bytes security) (stored 0%)
adding: Meta/vignette.rds (188 bytes security) (stored 0%)
adding: NAMESPACE (188 bytes security) (deflated 61%)
adding: R/ (256 bytes security) (stored 0%)
adding: R/HTSanalyzeR (188 bytes security) (deflated 41%)
adding: R/HTSanalyzeR.rdb (188 bytes security) (deflated 27%)
adding: R/HTSanalyzeR.rdx (188 bytes security) (deflated 1%)
adding: templates/ (256 bytes security) (stored 0%)
adding: templates/blue_cruklogo.gif (188 bytes security) (deflated 0%)
adding: templates/bordercorner.gif (188 bytes security) (deflated 29%)
adding: templates/goatcomputer.png (188 bytes security) (deflated 1%)
adding: templates/htsanalyzer.css (188 bytes security) (deflated 69%)
adding: templates/Rlogo.png (188 bytes security) (deflated 0%)