AnnotationHub 2.1.39 Bioconductor Package Maintainer
Snapshot Date: 2015-08-19 16:24:33 -0700 (Wed, 19 Aug 2015) | URL: https://hedgehog.fhcrc.org/bioconductor/trunk/madman/Rpacks/AnnotationHub | Last Changed Rev: 107596 / Revision: 107602 | Last Changed Date: 2015-08-19 14:50:06 -0700 (Wed, 19 Aug 2015) |
| zin1 | Linux (Ubuntu 14.04.2 LTS) / x86_64 | OK | OK | OK | | |
moscato1 | Windows Server 2008 R2 Enterprise SP1 (64-bit) / x64 | [ OK ] | OK | OK | OK | |
perceval | Mac OS X Snow Leopard (10.6.8) / x86_64 | OK | OK | OK | OK | |
oaxaca | Mac OS X Mavericks (10.9.5) / x86_64 | OK | TIMEOUT | skipped | skipped | |
##############################################################################
##############################################################################
###
### Running command:
###
### C:\cygwin\bin\curl.exe -O http://zin1/BBS/3.2/bioc/src/contrib/AnnotationHub_2.1.39.tar.gz && D:\biocbld\bbs-3.2-bioc\R\bin\R.exe CMD INSTALL --merge-multiarch AnnotationHub_2.1.39.tar.gz && rm AnnotationHub_2.1.39.tar.gz
###
##############################################################################
##############################################################################
% Total % Received % Xferd Average Speed Time Time Time Current
Dload Upload Total Spent Left Speed
0 0 0 0 0 0 0 0 --:--:-- --:--:-- --:--:-- 0
100 189k 100 189k 0 0 9.9M 0 --:--:-- --:--:-- --:--:-- 15.4M
install for i386
* installing to library 'D:/biocbld/bbs-3.2-bioc/R/library'
* installing *source* package 'AnnotationHub' ...
** R
** inst
** preparing package for lazy loading
in method for '.get1' with signature '"MSnSetResource"': no definition for class "MSnSetResource"
** help
*** installing help indices
** building package indices
** installing vignettes
** testing if installed package can be loaded
install for x64
* installing to library 'D:/biocbld/bbs-3.2-bioc/R/library'
* installing *source* package 'AnnotationHub' ...
** testing if installed package can be loaded
* DONE (AnnotationHub)