Back to Build/check report for BioC 3.13 experimental data |
|
This page was generated on 2021-10-16 15:58:42 -0400 (Sat, 16 Oct 2021).
To the developers/maintainers of the PhyloProfileData package: Make sure to use the following settings in order to reproduce any error or warning you see on this page. |
Package 279/406 | Hostname | OS / Arch | INSTALL | BUILD | CHECK | ||||||||
PhyloProfileData 1.6.1 (landing page) Vinh Tran
| malbec2 | Linux (Ubuntu 20.04.2 LTS) / x86_64 | OK | OK | OK | ||||||||
Package: PhyloProfileData |
Version: 1.6.1 |
Command: /home/biocbuild/bbs-3.13-bioc/R/bin/R CMD build --keep-empty-dirs --no-resave-data PhyloProfileData |
StartedAt: 2021-10-16 12:26:33 -0400 (Sat, 16 Oct 2021) |
EndedAt: 2021-10-16 12:27:13 -0400 (Sat, 16 Oct 2021) |
EllapsedTime: 39.9 seconds |
RetCode: 0 |
Status: OK |
PackageFile: PhyloProfileData_1.6.1.tar.gz |
PackageFileSize: 225.2 KiB |
############################################################################## ############################################################################## ### ### Running command: ### ### /home/biocbuild/bbs-3.13-bioc/R/bin/R CMD build --keep-empty-dirs --no-resave-data PhyloProfileData ### ############################################################################## ############################################################################## * checking for file ‘PhyloProfileData/DESCRIPTION’ ... OK * preparing ‘PhyloProfileData’: * checking DESCRIPTION meta-information ... OK * installing the package to build vignettes * creating vignettes ... OK * checking for LF line-endings in source and make files and shell scripts * checking for empty or unneeded directories Omitted ‘LazyData’ from DESCRIPTION * building ‘PhyloProfileData_1.6.1.tar.gz’