Back to Build/check report for BioC 3.13 experimental data |
|
This page was generated on 2021-10-16 15:58:40 -0400 (Sat, 16 Oct 2021).
To the developers/maintainers of the FlowSorted.CordBlood.450k package: Make sure to use the following settings in order to reproduce any error or warning you see on this page. |
Package 133/406 | Hostname | OS / Arch | INSTALL | BUILD | CHECK | ||||||||
FlowSorted.CordBlood.450k 1.20.0 (landing page) Shan V. Andrews
| malbec2 | Linux (Ubuntu 20.04.2 LTS) / x86_64 | OK | OK | WARNINGS | ||||||||
Package: FlowSorted.CordBlood.450k |
Version: 1.20.0 |
Command: /home/biocbuild/bbs-3.13-bioc/R/bin/R CMD build --keep-empty-dirs --no-resave-data FlowSorted.CordBlood.450k |
StartedAt: 2021-10-16 11:54:25 -0400 (Sat, 16 Oct 2021) |
EndedAt: 2021-10-16 12:03:00 -0400 (Sat, 16 Oct 2021) |
EllapsedTime: 515.0 seconds |
RetCode: 0 |
Status: OK |
PackageFile: FlowSorted.CordBlood.450k_1.20.0.tar.gz |
PackageFileSize: 259.3 MiB |
############################################################################## ############################################################################## ### ### Running command: ### ### /home/biocbuild/bbs-3.13-bioc/R/bin/R CMD build --keep-empty-dirs --no-resave-data FlowSorted.CordBlood.450k ### ############################################################################## ############################################################################## * checking for file ‘FlowSorted.CordBlood.450k/DESCRIPTION’ ... OK * preparing ‘FlowSorted.CordBlood.450k’: * checking DESCRIPTION meta-information ... OK * installing the package to process help pages * saving partial Rd database * creating vignettes ... OK * checking for LF line-endings in source and make files and shell scripts * checking for empty or unneeded directories * building ‘FlowSorted.CordBlood.450k_1.20.0.tar.gz’