Back to Build/check report for BioC 3.13 experimental data |
|
This page was generated on 2021-10-16 15:58:40 -0400 (Sat, 16 Oct 2021).
To the developers/maintainers of the COSMIC.67 package: Make sure to use the following settings in order to reproduce any error or warning you see on this page. |
Package 79/406 | Hostname | OS / Arch | INSTALL | BUILD | CHECK | ||||||||
COSMIC.67 1.28.0 (landing page) Julian Gehring
| malbec2 | Linux (Ubuntu 20.04.2 LTS) / x86_64 | OK | OK | OK | ||||||||
Package: COSMIC.67 |
Version: 1.28.0 |
Command: /home/biocbuild/bbs-3.13-bioc/R/bin/R CMD build --keep-empty-dirs --no-resave-data COSMIC.67 |
StartedAt: 2021-10-16 11:40:12 -0400 (Sat, 16 Oct 2021) |
EndedAt: 2021-10-16 11:41:10 -0400 (Sat, 16 Oct 2021) |
EllapsedTime: 58.7 seconds |
RetCode: 0 |
Status: OK |
PackageFile: COSMIC.67_1.28.0.tar.gz |
PackageFileSize: 39.17 MiB |
############################################################################## ############################################################################## ### ### Running command: ### ### /home/biocbuild/bbs-3.13-bioc/R/bin/R CMD build --keep-empty-dirs --no-resave-data COSMIC.67 ### ############################################################################## ############################################################################## * checking for file ‘COSMIC.67/DESCRIPTION’ ... OK * preparing ‘COSMIC.67’: * checking DESCRIPTION meta-information ... OK * installing the package to build vignettes * creating vignettes ... OK * checking for LF line-endings in source and make files and shell scripts * checking for empty or unneeded directories * looking to see if a ‘data/datalist’ file should be added * building ‘COSMIC.67_1.28.0.tar.gz’