Back to Multiple platform build/check report for BioC 3.13 |
|
This page was generated on 2021-10-15 15:06:27 -0400 (Fri, 15 Oct 2021).
To the developers/maintainers of the viper package: - Please allow up to 24 hours (and sometimes 48 hours) for your latest push to git@git.bioconductor.org:packages/viper.git to reflect on this report. See How and When does the builder pull? When will my changes propagate? here for more information. - Make sure to use the following settings in order to reproduce any error or warning you see on this page. |
Package 2007/2041 | Hostname | OS / Arch | INSTALL | BUILD | CHECK | BUILD BIN | ||||||||
viper 1.26.0 (landing page) Mariano J Alvarez
| nebbiolo1 | Linux (Ubuntu 20.04.2 LTS) / x86_64 | OK | OK | WARNINGS | |||||||||
tokay2 | Windows Server 2012 R2 Standard / x64 | OK | OK | WARNINGS | OK | |||||||||
machv2 | macOS 10.14.6 Mojave / x86_64 | OK | OK | WARNINGS | OK | |||||||||
Package: viper |
Version: 1.26.0 |
Command: C:\cygwin\bin\curl.exe -O http://155.52.207.165/BBS/3.13/bioc/src/contrib/viper_1.26.0.tar.gz && rm -rf viper.buildbin-libdir && mkdir viper.buildbin-libdir && C:\Users\biocbuild\bbs-3.13-bioc\R\bin\R.exe CMD INSTALL --merge-multiarch --build --library=viper.buildbin-libdir viper_1.26.0.tar.gz && C:\Users\biocbuild\bbs-3.13-bioc\R\bin\R.exe CMD INSTALL viper_1.26.0.zip && rm viper_1.26.0.tar.gz viper_1.26.0.zip |
StartedAt: 2021-10-14 11:09:39 -0400 (Thu, 14 Oct 2021) |
EndedAt: 2021-10-14 11:10:48 -0400 (Thu, 14 Oct 2021) |
EllapsedTime: 68.4 seconds |
RetCode: 0 |
Status: OK |
############################################################################## ############################################################################## ### ### Running command: ### ### C:\cygwin\bin\curl.exe -O http://155.52.207.165/BBS/3.13/bioc/src/contrib/viper_1.26.0.tar.gz && rm -rf viper.buildbin-libdir && mkdir viper.buildbin-libdir && C:\Users\biocbuild\bbs-3.13-bioc\R\bin\R.exe CMD INSTALL --merge-multiarch --build --library=viper.buildbin-libdir viper_1.26.0.tar.gz && C:\Users\biocbuild\bbs-3.13-bioc\R\bin\R.exe CMD INSTALL viper_1.26.0.zip && rm viper_1.26.0.tar.gz viper_1.26.0.zip ### ############################################################################## ############################################################################## % Total % Received % Xferd Average Speed Time Time Time Current Dload Upload Total Spent Left Speed 0 0 0 0 0 0 0 0 --:--:-- --:--:-- --:--:-- 0 100 59370 100 59370 0 0 305k 0 --:--:-- --:--:-- --:--:-- 308k install for i386 * installing *source* package 'viper' ... ** using staged installation ** R ** inst ** byte-compile and prepare package for lazy loading ** help *** installing help indices converting help for package 'viper' finding HTML links ... done aREA html aecdf html approxk2d html aracne2regulon html aracne2regulon4cnv html as.dist.signatureDistance html bootstrapTtest-methods html bootstrapViper html bootstrapmsviper html comNames html distMode html fcvarna html filterCV-methods html filterColMatrix html filterRowMatrix html frcv html frvarna html groupPwea3 html integrateSignatures html ledge html loadExpset html msviper-class html msviper html msviperAnnot html msviperClass html msviperCombinatorial html msviperSynergy html plot.msviper html pruneRegulon html pwea3NULLf html pwea3NULLgroups html regulon-class html rowTtest-methods html scale.signatureDistance html scaleGroups html shadow html shadowRegulon html sigT html signatureDistance-class html signatureDistance html summary.msviper html ttestNull-methods html viper html viperRPT html viperSignature-class html viperSignature-methods html viperSimilarity html ** building package indices ** installing vignettes ** testing if installed package can be loaded from temporary location ** testing if installed package can be loaded from final location ** testing if installed package keeps a record of temporary installation path install for x64 * installing *source* package 'viper' ... ** testing if installed package can be loaded * MD5 sums packaged installation of 'viper' as viper_1.26.0.zip * DONE (viper) * installing to library 'C:/Users/biocbuild/bbs-3.13-bioc/R/library' package 'viper' successfully unpacked and MD5 sums checked