Back to Multiple platform build/check report for BioC 3.13 |
|
This page was generated on 2021-10-15 15:06:22 -0400 (Fri, 15 Oct 2021).
To the developers/maintainers of the seqCAT package: - Please allow up to 24 hours (and sometimes 48 hours) for your latest push to git@git.bioconductor.org:packages/seqCAT.git to reflect on this report. See How and When does the builder pull? When will my changes propagate? here for more information. - Make sure to use the following settings in order to reproduce any error or warning you see on this page. |
Package 1733/2041 | Hostname | OS / Arch | INSTALL | BUILD | CHECK | BUILD BIN | ||||||||
seqCAT 1.14.1 (landing page) Erik Fasterius
| nebbiolo1 | Linux (Ubuntu 20.04.2 LTS) / x86_64 | OK | OK | OK | |||||||||
tokay2 | Windows Server 2012 R2 Standard / x64 | OK | OK | OK | OK | |||||||||
machv2 | macOS 10.14.6 Mojave / x86_64 | OK | OK | OK | OK | |||||||||
Package: seqCAT |
Version: 1.14.1 |
Command: rm -rf seqCAT.buildbin-libdir && mkdir seqCAT.buildbin-libdir && C:\Users\biocbuild\bbs-3.13-bioc\R\bin\R.exe CMD INSTALL --merge-multiarch --build --library=seqCAT.buildbin-libdir seqCAT_1.14.1.tar.gz |
StartedAt: 2021-10-15 11:44:35 -0400 (Fri, 15 Oct 2021) |
EndedAt: 2021-10-15 11:46:01 -0400 (Fri, 15 Oct 2021) |
EllapsedTime: 85.4 seconds |
RetCode: 0 |
Status: OK |
PackageFile: seqCAT_1.14.1.zip |
PackageFileSize: 1.884 MiB |
############################################################################## ############################################################################## ### ### Running command: ### ### rm -rf seqCAT.buildbin-libdir && mkdir seqCAT.buildbin-libdir && C:\Users\biocbuild\bbs-3.13-bioc\R\bin\R.exe CMD INSTALL --merge-multiarch --build --library=seqCAT.buildbin-libdir seqCAT_1.14.1.tar.gz ### ############################################################################## ############################################################################## install for i386 * installing *source* package 'seqCAT' ... ** using staged installation ** R ** data *** moving datasets to lazyload DB ** inst ** byte-compile and prepare package for lazy loading ** help *** installing help indices converting help for package 'seqCAT' finding HTML links ... done calculate_similarity html compare_many html compare_profiles html create_profile html create_profiles html filter_duplicates html filter_variants html list_cosmic html list_variants html plot_heatmap html plot_impacts html plot_variant_list html read_cosmic html read_profile html read_profiles html seqCAT html test_comparison html test_profile_1 html test_profile_2 html test_profile_3 html test_similarities html test_variant_list html write_profile html write_profiles html ** building package indices ** installing vignettes ** testing if installed package can be loaded from temporary location ** testing if installed package can be loaded from final location ** testing if installed package keeps a record of temporary installation path install for x64 * installing *source* package 'seqCAT' ... ** testing if installed package can be loaded * MD5 sums packaged installation of 'seqCAT' as seqCAT_1.14.1.zip * DONE (seqCAT)