Back to Multiple platform build/check report for BioC 3.13 |
|
This page was generated on 2021-10-15 15:06:19 -0400 (Fri, 15 Oct 2021).
To the developers/maintainers of the restfulSE package: - Please allow up to 24 hours (and sometimes 48 hours) for your latest push to git@git.bioconductor.org:packages/restfulSE.git to reflect on this report. See How and When does the builder pull? When will my changes propagate? here for more information. - Make sure to use the following settings in order to reproduce any error or warning you see on this page. |
Package 1559/2041 | Hostname | OS / Arch | INSTALL | BUILD | CHECK | BUILD BIN | ||||||||
restfulSE 1.14.2 (landing page) Shweta Gopaulakrishnan
| nebbiolo1 | Linux (Ubuntu 20.04.2 LTS) / x86_64 | OK | OK | OK | |||||||||
tokay2 | Windows Server 2012 R2 Standard / x64 | OK | OK | OK | OK | |||||||||
machv2 | macOS 10.14.6 Mojave / x86_64 | OK | OK | OK | OK | |||||||||
Package: restfulSE |
Version: 1.14.2 |
Command: rm -rf restfulSE.buildbin-libdir && mkdir restfulSE.buildbin-libdir && C:\Users\biocbuild\bbs-3.13-bioc\R\bin\R.exe CMD INSTALL --merge-multiarch --build --library=restfulSE.buildbin-libdir restfulSE_1.14.2.tar.gz |
StartedAt: 2021-10-15 11:21:23 -0400 (Fri, 15 Oct 2021) |
EndedAt: 2021-10-15 11:22:54 -0400 (Fri, 15 Oct 2021) |
EllapsedTime: 90.9 seconds |
RetCode: 0 |
Status: OK |
PackageFile: restfulSE_1.14.2.zip |
PackageFileSize: 925.3 KiB |
############################################################################## ############################################################################## ### ### Running command: ### ### rm -rf restfulSE.buildbin-libdir && mkdir restfulSE.buildbin-libdir && C:\Users\biocbuild\bbs-3.13-bioc\R\bin\R.exe CMD INSTALL --merge-multiarch --build --library=restfulSE.buildbin-libdir restfulSE_1.14.2.tar.gz ### ############################################################################## ############################################################################## install for i386 * installing *source* package 'restfulSE' ... ** using staged installation ** R ** inst ** byte-compile and prepare package for lazy loading ** help *** installing help indices converting help for package 'restfulSE' finding HTML links ... done BQ3_Array-class html BQ3_Array html BQ3_ArraySeed-class html BQ3_Matrix-class html BQ3_Source-class html BQ3_Source html BQM_Array-class html BQM_Array html BQM_ArraySeed-class html BQM_Matrix-class html BQM_Source-class html BQM_Source html BQSummarizedExperiment html DelayedArray-BQ3_ArraySeed-method html RESTfulSummarizedExperiment-class html RESTfulSummarizedExperiment html assay-BQSummarizedExperiment-missing-method html assayNames-BQSummarizedExperiment-method html basic_clinvars html bqConn html cgcConn html dim-BQ3_ArraySeed-method html dim-BQM_ArraySeed-method html dim-RESTfulSummarizedExperiment-method html dimnames-BQ3_ArraySeed-method html dimnames-BQM_ArraySeed-method html goPatt html gtexTiss html isbCgcDatasets html isbCgcTables html newDA html pancan_SE html se1.3M html seByTumor html seByTumor_2016 html tasicCortex html ** building package indices ** installing vignettes ** testing if installed package can be loaded from temporary location ** testing if installed package can be loaded from final location ** testing if installed package keeps a record of temporary installation path install for x64 * installing *source* package 'restfulSE' ... ** testing if installed package can be loaded * MD5 sums packaged installation of 'restfulSE' as restfulSE_1.14.2.zip * DONE (restfulSE)