Back to Multiple platform build/check report for BioC 3.13 |
|
This page was generated on 2021-10-15 15:05:38 -0400 (Fri, 15 Oct 2021).
To the developers/maintainers of the compEpiTools package: - Please allow up to 24 hours (and sometimes 48 hours) for your latest push to git@git.bioconductor.org:packages/compEpiTools.git to reflect on this report. See How and When does the builder pull? When will my changes propagate? here for more information. - Make sure to use the following settings in order to reproduce any error or warning you see on this page. |
Package 370/2041 | Hostname | OS / Arch | INSTALL | BUILD | CHECK | BUILD BIN | ||||||||
compEpiTools 1.26.0 (landing page) Kamal Kishore
| nebbiolo1 | Linux (Ubuntu 20.04.2 LTS) / x86_64 | OK | OK | OK | |||||||||
tokay2 | Windows Server 2012 R2 Standard / x64 | OK | OK | OK | OK | |||||||||
machv2 | macOS 10.14.6 Mojave / x86_64 | OK | OK | OK | OK | |||||||||
Package: compEpiTools |
Version: 1.26.0 |
Command: /home/biocbuild/bbs-3.13-bioc/R/bin/R CMD check --install=check:compEpiTools.install-out.txt --library=/home/biocbuild/bbs-3.13-bioc/R/library --no-vignettes --timings compEpiTools_1.26.0.tar.gz |
StartedAt: 2021-10-14 09:21:16 -0400 (Thu, 14 Oct 2021) |
EndedAt: 2021-10-14 09:27:41 -0400 (Thu, 14 Oct 2021) |
EllapsedTime: 384.8 seconds |
RetCode: 0 |
Status: OK |
CheckDir: compEpiTools.Rcheck |
Warnings: 0 |
############################################################################## ############################################################################## ### ### Running command: ### ### /home/biocbuild/bbs-3.13-bioc/R/bin/R CMD check --install=check:compEpiTools.install-out.txt --library=/home/biocbuild/bbs-3.13-bioc/R/library --no-vignettes --timings compEpiTools_1.26.0.tar.gz ### ############################################################################## ############################################################################## * using log directory ‘/home/biocbuild/bbs-3.13-bioc/meat/compEpiTools.Rcheck’ * using R version 4.1.1 (2021-08-10) * using platform: x86_64-pc-linux-gnu (64-bit) * using session charset: UTF-8 * using option ‘--no-vignettes’ * checking for file ‘compEpiTools/DESCRIPTION’ ... OK * checking extension type ... Package * this is package ‘compEpiTools’ version ‘1.26.0’ * checking package namespace information ... OK * checking package dependencies ... OK * checking if this is a source package ... OK * checking if there is a namespace ... OK * checking for hidden files and directories ... OK * checking for portable file names ... OK * checking for sufficient/correct file permissions ... OK * checking whether package ‘compEpiTools’ can be installed ... OK * checking installed package size ... OK * checking package directory ... OK * checking ‘build’ directory ... OK * checking DESCRIPTION meta-information ... OK * checking top-level files ... OK * checking for left-over files ... OK * checking index information ... OK * checking package subdirectories ... OK * checking R files for non-ASCII characters ... OK * checking R files for syntax errors ... OK * checking whether the package can be loaded ... OK * checking whether the package can be loaded with stated dependencies ... OK * checking whether the package can be unloaded cleanly ... OK * checking whether the namespace can be loaded with stated dependencies ... OK * checking whether the namespace can be unloaded cleanly ... OK * checking dependencies in R code ... OK * checking S3 generic/method consistency ... OK * checking replacement functions ... OK * checking foreign function calls ... OK * checking R code for possible problems ... NOTE TSS: no visible global function definition for 'end<-' TSS: no visible global function definition for 'start<-' findLncRNA: no visible global function definition for 'start<-' findLncRNA: no visible global function definition for 'end<-' findLncRNA: no visible global function definition for 'IRanges' stallingIndex : getBound: no visible global function definition for 'start<-' stallingIndex : getBound: no visible global function definition for 'end<-' stallingIndex: no visible global function definition for 'IRanges' topGOres : <anonymous>: no visible global function definition for 'ggplot' topGOres : <anonymous>: no visible global function definition for 'aes' topGOres : <anonymous>: no visible binding for global variable 'Significant' topGOres : <anonymous>: no visible binding for global variable 'P_val' topGOres : <anonymous>: no visible global function definition for 'geom_bar' topGOres : <anonymous>: no visible global function definition for 'coord_flip' topGOres : <anonymous>: no visible global function definition for 'ylab' ucsc2GRanges: no visible global function definition for 'IRanges' GR2fasta,GRanges: no visible global function definition for 'seqlengths' GR2fasta,GRanges: no visible global function definition for 'seqlengths<-' GR2fasta,GRanges: no visible global function definition for 'trim' GRangesInPromoters,GRanges: no visible global function definition for 'start<-' GRannotate,GRanges: no visible global function definition for 'start<-' GRannotate,GRanges: no visible global function definition for 'end<-' GRcoverageSummit,GRanges: no visible global function definition for 'start<-' GRcoverageSummit,GRanges: no visible global function definition for 'end<-' GRmidpoint,GRanges: no visible global function definition for 'start<-' GRmidpoint,GRanges: no visible global function definition for 'end<-' GRsetwidth,GRanges: no visible global function definition for 'start<-' GRsetwidth,GRanges: no visible global function definition for 'end<-' countOverlapsInBins,GRanges: no visible global function definition for 'IRanges' featuresLength,TxDb: no visible global function definition for 'reduce' getPromoterClass,TxDb: no visible binding for global variable 'txdb' getPromoterClass,TxDb: no visible global function definition for 'start<-' getPromoterClass,TxDb: no visible global function definition for 'stopCluster' makeGtfFromDb,TxDb: no visible global function definition for 'reduce' matchEnhancers,GRanges: no visible global function definition for 'distanceToNearest' matchEnhancers,GRanges: no visible global function definition for 'IRanges' Undefined global functions or variables: IRanges P_val Significant aes coord_flip distanceToNearest end<- geom_bar ggplot reduce seqlengths seqlengths<- start<- stopCluster trim txdb ylab * checking Rd files ... OK * checking Rd metadata ... OK * checking Rd cross-references ... OK * checking for missing documentation entries ... OK * checking for code/documentation mismatches ... OK * checking Rd \usage sections ... OK * checking Rd contents ... OK * checking for unstated dependencies in examples ... OK * checking files in ‘vignettes’ ... OK * checking examples ... OK Examples with CPU (user + system) or elapsed time > 5s user system elapsed topGOres 27.812 0.192 28.004 getPromoterClass-methods 2.304 0.611 19.185 * checking for unstated dependencies in vignettes ... OK * checking package vignettes in ‘inst/doc’ ... OK * checking running R code from vignettes ... SKIPPED * checking re-building of vignette outputs ... SKIPPED * checking PDF version of manual ... OK * DONE Status: 1 NOTE See ‘/home/biocbuild/bbs-3.13-bioc/meat/compEpiTools.Rcheck/00check.log’ for details.
compEpiTools.Rcheck/00install.out
############################################################################## ############################################################################## ### ### Running command: ### ### /home/biocbuild/bbs-3.13-bioc/R/bin/R CMD INSTALL compEpiTools ### ############################################################################## ############################################################################## * installing to library ‘/home/biocbuild/bbs-3.13-bioc/R/library’ * installing *source* package ‘compEpiTools’ ... ** using staged installation ** R ** inst ** byte-compile and prepare package for lazy loading groupGOTerms: GOBPTerm, GOMFTerm, GOCCTerm environments built. ** help *** installing help indices ** building package indices ** installing vignettes ** testing if installed package can be loaded from temporary location groupGOTerms: GOBPTerm, GOMFTerm, GOCCTerm environments built. ** testing if installed package can be loaded from final location groupGOTerms: GOBPTerm, GOMFTerm, GOCCTerm environments built. ** testing if installed package keeps a record of temporary installation path * DONE (compEpiTools)
compEpiTools.Rcheck/compEpiTools-Ex.timings
name | user | system | elapsed | |
GR2fasta-methods | 1.846 | 0.020 | 1.867 | |
GRanges2ucsc-methods | 0.014 | 0.000 | 0.014 | |
GRangesInPromoters-methods | 2.175 | 0.096 | 2.271 | |
GRannotate-methods | 4.000 | 0.092 | 4.092 | |
GRannotateSimple | 0.787 | 0.021 | 0.808 | |
GRbaseCoverage-methods | 0.176 | 0.000 | 0.177 | |
GRcoverage-methods | 0.166 | 0.028 | 0.193 | |
GRcoverageSummit-methods | 0.093 | 0.000 | 0.093 | |
GRenrichment-methods | 0.083 | 0.004 | 0.088 | |
GRmidpoint-methods | 0.049 | 0.000 | 0.048 | |
GRsetwidth | 0.064 | 0.000 | 0.064 | |
TSS | 1.713 | 0.148 | 1.862 | |
countOverlapsInBins-methods | 0.171 | 0.008 | 0.179 | |
distanceFromTSS-methods | 2.357 | 0.040 | 2.398 | |
enhancers | 0.510 | 0.060 | 0.571 | |
findLncRNA | 0.864 | 0.084 | 0.957 | |
getPromoterClass-methods | 2.304 | 0.611 | 19.185 | |
heatmapData | 1.132 | 0.117 | 1.248 | |
heatmapPlot | 2.865 | 0.223 | 3.090 | |
makeGtfFromDb | 4.444 | 0.205 | 4.740 | |
matchEnhancers | 1.879 | 0.012 | 1.892 | |
overlapOfGRanges-methods | 0.068 | 0.000 | 0.068 | |
palette2d | 0.043 | 0.004 | 0.047 | |
plotStallingIndex | 2.938 | 0.016 | 2.958 | |
simplifyGOterms | 0.545 | 0.098 | 0.766 | |
stallingIndex | 2.840 | 0.088 | 2.929 | |
topGOres | 27.812 | 0.192 | 28.004 | |
ucsc2GRanges | 0.025 | 0.000 | 0.026 | |
unionMaxScore-methods | 0.166 | 0.000 | 0.166 | |