Back to Multiple platform build/check report for BioC 3.13 |
|
This page was generated on 2021-10-15 15:06:01 -0400 (Fri, 15 Oct 2021).
To the developers/maintainers of the coexnet package: - Please allow up to 24 hours (and sometimes 48 hours) for your latest push to git@git.bioconductor.org:packages/coexnet.git to reflect on this report. See How and When does the builder pull? When will my changes propagate? here for more information. - Make sure to use the following settings in order to reproduce any error or warning you see on this page. |
Package 359/2041 | Hostname | OS / Arch | INSTALL | BUILD | CHECK | BUILD BIN | ||||||||
coexnet 1.14.0 (landing page) Juan David Henao
| nebbiolo1 | Linux (Ubuntu 20.04.2 LTS) / x86_64 | OK | OK | OK | |||||||||
tokay2 | Windows Server 2012 R2 Standard / x64 | OK | OK | OK | OK | |||||||||
machv2 | macOS 10.14.6 Mojave / x86_64 | OK | OK | OK | OK | |||||||||
Package: coexnet |
Version: 1.14.0 |
Command: C:\cygwin\bin\curl.exe -O http://155.52.207.165/BBS/3.13/bioc/src/contrib/coexnet_1.14.0.tar.gz && rm -rf coexnet.buildbin-libdir && mkdir coexnet.buildbin-libdir && C:\Users\biocbuild\bbs-3.13-bioc\R\bin\R.exe CMD INSTALL --merge-multiarch --build --library=coexnet.buildbin-libdir coexnet_1.14.0.tar.gz && C:\Users\biocbuild\bbs-3.13-bioc\R\bin\R.exe CMD INSTALL coexnet_1.14.0.zip && rm coexnet_1.14.0.tar.gz coexnet_1.14.0.zip |
StartedAt: 2021-10-14 09:46:10 -0400 (Thu, 14 Oct 2021) |
EndedAt: 2021-10-14 09:47:12 -0400 (Thu, 14 Oct 2021) |
EllapsedTime: 62.1 seconds |
RetCode: 0 |
Status: OK |
############################################################################## ############################################################################## ### ### Running command: ### ### C:\cygwin\bin\curl.exe -O http://155.52.207.165/BBS/3.13/bioc/src/contrib/coexnet_1.14.0.tar.gz && rm -rf coexnet.buildbin-libdir && mkdir coexnet.buildbin-libdir && C:\Users\biocbuild\bbs-3.13-bioc\R\bin\R.exe CMD INSTALL --merge-multiarch --build --library=coexnet.buildbin-libdir coexnet_1.14.0.tar.gz && C:\Users\biocbuild\bbs-3.13-bioc\R\bin\R.exe CMD INSTALL coexnet_1.14.0.zip && rm coexnet_1.14.0.tar.gz coexnet_1.14.0.zip ### ############################################################################## ############################################################################## % Total % Received % Xferd Average Speed Time Time Time Current Dload Upload Total Spent Left Speed 0 0 0 0 0 0 0 0 --:--:-- --:--:-- --:--:-- 0 31 1747k 31 543k 0 0 1582k 0 0:00:01 --:--:-- 0:00:01 1583k 100 1747k 100 1747k 0 0 2892k 0 --:--:-- --:--:-- --:--:-- 2892k install for i386 * installing *source* package 'coexnet' ... ** using staged installation ** R ** data *** moving datasets to lazyload DB ** inst ** byte-compile and prepare package for lazy loading ** help *** installing help indices converting help for package 'coexnet' finding HTML links ... done CCP html affy html cofVar html createNet html difExprs html exprMat html findThreshold html geneSymbol html getAffy html getInfo html info html net1 html net2 html ppiNet html sharedComponents html ** building package indices ** installing vignettes ** testing if installed package can be loaded from temporary location ** testing if installed package can be loaded from final location ** testing if installed package keeps a record of temporary installation path install for x64 * installing *source* package 'coexnet' ... ** testing if installed package can be loaded * MD5 sums packaged installation of 'coexnet' as coexnet_1.14.0.zip * DONE (coexnet) * installing to library 'C:/Users/biocbuild/bbs-3.13-bioc/R/library' package 'coexnet' successfully unpacked and MD5 sums checked