Back to Multiple platform build/check report for BioC 3.13 |
|
This page was generated on 2021-10-15 15:06:00 -0400 (Fri, 15 Oct 2021).
To the developers/maintainers of the cn.farms package: - Please allow up to 24 hours (and sometimes 48 hours) for your latest push to git@git.bioconductor.org:packages/cn.farms.git to reflect on this report. See How and When does the builder pull? When will my changes propagate? here for more information. - Make sure to use the following settings in order to reproduce any error or warning you see on this page. |
Package 339/2041 | Hostname | OS / Arch | INSTALL | BUILD | CHECK | BUILD BIN | ||||||||
cn.farms 1.40.0 (landing page) Andreas Mitterecker
| nebbiolo1 | Linux (Ubuntu 20.04.2 LTS) / x86_64 | OK | OK | OK | |||||||||
tokay2 | Windows Server 2012 R2 Standard / x64 | ERROR | OK | ERROR | OK | |||||||||
machv2 | macOS 10.14.6 Mojave / x86_64 | OK | OK | OK | OK | |||||||||
Package: cn.farms |
Version: 1.40.0 |
Command: C:\cygwin\bin\curl.exe -O http://155.52.207.165/BBS/3.13/bioc/src/contrib/cn.farms_1.40.0.tar.gz && rm -rf cn.farms.buildbin-libdir && mkdir cn.farms.buildbin-libdir && C:\Users\biocbuild\bbs-3.13-bioc\R\bin\R.exe CMD INSTALL --merge-multiarch --build --library=cn.farms.buildbin-libdir cn.farms_1.40.0.tar.gz && C:\Users\biocbuild\bbs-3.13-bioc\R\bin\R.exe CMD INSTALL cn.farms_1.40.0.zip && rm cn.farms_1.40.0.tar.gz cn.farms_1.40.0.zip |
StartedAt: 2021-10-14 08:53:51 -0400 (Thu, 14 Oct 2021) |
EndedAt: 2021-10-14 08:54:47 -0400 (Thu, 14 Oct 2021) |
EllapsedTime: 56.2 seconds |
RetCode: 52 |
Status: ERROR |
############################################################################## ############################################################################## ### ### Running command: ### ### C:\cygwin\bin\curl.exe -O http://155.52.207.165/BBS/3.13/bioc/src/contrib/cn.farms_1.40.0.tar.gz && rm -rf cn.farms.buildbin-libdir && mkdir cn.farms.buildbin-libdir && C:\Users\biocbuild\bbs-3.13-bioc\R\bin\R.exe CMD INSTALL --merge-multiarch --build --library=cn.farms.buildbin-libdir cn.farms_1.40.0.tar.gz && C:\Users\biocbuild\bbs-3.13-bioc\R\bin\R.exe CMD INSTALL cn.farms_1.40.0.zip && rm cn.farms_1.40.0.tar.gz cn.farms_1.40.0.zip ### ############################################################################## ############################################################################## % Total % Received % Xferd Average Speed Time Time Time Current Dload Upload Total Spent Left Speed 0 0 0 0 0 0 0 0 --:--:-- --:--:-- --:--:-- 0 0 0 0 0 0 0 0 0 --:--:-- --:--:-- --:--:-- 0 curl: (52) Empty reply from server