Back to Multiple platform build/check report for BioC 3.13 |
|
This page was generated on 2021-10-15 15:06:28 -0400 (Fri, 15 Oct 2021).
To the developers/maintainers of the annotatr package: - Please allow up to 24 hours (and sometimes 48 hours) for your latest push to git@git.bioconductor.org:packages/annotatr.git to reflect on this report. See How and When does the builder pull? When will my changes propagate? here for more information. - Make sure to use the following settings in order to reproduce any error or warning you see on this page. |
Package 69/2041 | Hostname | OS / Arch | INSTALL | BUILD | CHECK | BUILD BIN | ||||||||
annotatr 1.18.1 (landing page) Raymond G. Cavalcante
| nebbiolo1 | Linux (Ubuntu 20.04.2 LTS) / x86_64 | OK | OK | WARNINGS | |||||||||
tokay2 | Windows Server 2012 R2 Standard / x64 | OK | OK | WARNINGS | OK | |||||||||
machv2 | macOS 10.14.6 Mojave / x86_64 | OK | OK | WARNINGS | OK | |||||||||
Package: annotatr |
Version: 1.18.1 |
Command: rm -rf annotatr.buildbin-libdir && mkdir annotatr.buildbin-libdir && /Users/biocbuild/BBS/utils/build-universal.sh annotatr_1.18.1.tar.gz /Library/Frameworks/R.framework/Versions/Current/Resources/bin/R annotatr.buildbin-libdir |
StartedAt: 2021-10-15 01:35:13 -0400 (Fri, 15 Oct 2021) |
EndedAt: 2021-10-15 01:36:22 -0400 (Fri, 15 Oct 2021) |
EllapsedTime: 69.2 seconds |
RetCode: 0 |
Status: OK |
PackageFile: annotatr_1.18.1.tgz |
PackageFileSize: 2.53 MiB |
############################################################################## ############################################################################## ### ### Running command: ### ### rm -rf annotatr.buildbin-libdir && mkdir annotatr.buildbin-libdir && /Users/biocbuild/BBS/utils/build-universal.sh annotatr_1.18.1.tar.gz /Library/Frameworks/R.framework/Versions/Current/Resources/bin/R annotatr.buildbin-libdir ### ############################################################################## ############################################################################## >>>>>>> >>>>>>> INSTALLATION WITH 'R CMD INSTALL --preclean --no-multiarch --library=annotatr.buildbin-libdir annotatr_1.18.1.tar.gz' >>>>>>> * installing *source* package ‘annotatr’ ... ** using staged installation ** R ** data *** moving datasets to lazyload DB ** inst ** byte-compile and prepare package for lazy loading Warning: replacing previous import ‘AnnotationHub::hubUrl’ by ‘rtracklayer::hubUrl’ when loading ‘annotatr’ ** help *** installing help indices ** building package indices ** installing vignettes ** testing if installed package can be loaded from temporary location Warning: replacing previous import ‘AnnotationHub::hubUrl’ by ‘rtracklayer::hubUrl’ when loading ‘annotatr’ ** testing if installed package can be loaded from final location Warning: replacing previous import ‘AnnotationHub::hubUrl’ by ‘rtracklayer::hubUrl’ when loading ‘annotatr’ ** testing if installed package keeps a record of temporary installation path * DONE (annotatr)