Back to Multiple platform build/check report for BioC 3.13 |
|
This page was generated on 2021-10-15 15:06:28 -0400 (Fri, 15 Oct 2021).
To the developers/maintainers of the altcdfenvs package: - Please allow up to 24 hours (and sometimes 48 hours) for your latest push to git@git.bioconductor.org:packages/altcdfenvs.git to reflect on this report. See How and When does the builder pull? When will my changes propagate? here for more information. - Make sure to use the following settings in order to reproduce any error or warning you see on this page. |
Package 50/2041 | Hostname | OS / Arch | INSTALL | BUILD | CHECK | BUILD BIN | ||||||||
altcdfenvs 2.54.0 (landing page) Laurent Gautier
| nebbiolo1 | Linux (Ubuntu 20.04.2 LTS) / x86_64 | OK | OK | OK | |||||||||
tokay2 | Windows Server 2012 R2 Standard / x64 | OK | OK | OK | OK | |||||||||
machv2 | macOS 10.14.6 Mojave / x86_64 | OK | OK | OK | OK | |||||||||
Package: altcdfenvs |
Version: 2.54.0 |
Command: rm -rf altcdfenvs.buildbin-libdir && mkdir altcdfenvs.buildbin-libdir && /Users/biocbuild/BBS/utils/build-universal.sh altcdfenvs_2.54.0.tar.gz /Library/Frameworks/R.framework/Versions/Current/Resources/bin/R altcdfenvs.buildbin-libdir |
StartedAt: 2021-10-15 01:33:36 -0400 (Fri, 15 Oct 2021) |
EndedAt: 2021-10-15 01:34:46 -0400 (Fri, 15 Oct 2021) |
EllapsedTime: 69.8 seconds |
RetCode: 0 |
Status: OK |
PackageFile: altcdfenvs_2.54.0.tgz |
PackageFileSize: 835.9 KiB |
############################################################################## ############################################################################## ### ### Running command: ### ### rm -rf altcdfenvs.buildbin-libdir && mkdir altcdfenvs.buildbin-libdir && /Users/biocbuild/BBS/utils/build-universal.sh altcdfenvs_2.54.0.tar.gz /Library/Frameworks/R.framework/Versions/Current/Resources/bin/R altcdfenvs.buildbin-libdir ### ############################################################################## ############################################################################## >>>>>>> >>>>>>> INSTALLATION WITH 'R CMD INSTALL --preclean --no-multiarch --library=altcdfenvs.buildbin-libdir altcdfenvs_2.54.0.tar.gz' >>>>>>> * installing *source* package ‘altcdfenvs’ ... ** using staged installation ** R ** data ** inst ** byte-compile and prepare package for lazy loading NOTE: arguments in definition for validity method for class 'AffyProbesMatch' changed from (obj) to (object) in method for ‘toHypergraph’ with signature ‘"CdfEnvAffy"’: no definition for class “CdfEnvAffy” ** help *** installing help indices ** building package indices ** installing vignettes ** testing if installed package can be loaded from temporary location ** testing if installed package can be loaded from final location ** testing if installed package keeps a record of temporary installation path * DONE (altcdfenvs)