Back to Multiple platform build/check report for BioC 3.13 |
|
This page was generated on 2021-10-15 15:06:23 -0400 (Fri, 15 Oct 2021).
To the developers/maintainers of the SingleCellSignalR package: - Please allow up to 24 hours (and sometimes 48 hours) for your latest push to git@git.bioconductor.org:packages/SingleCellSignalR.git to reflect on this report. See How and When does the builder pull? When will my changes propagate? here for more information. - Make sure to use the following settings in order to reproduce any error or warning you see on this page. |
Package 1777/2041 | Hostname | OS / Arch | INSTALL | BUILD | CHECK | BUILD BIN | ||||||||
SingleCellSignalR 1.4.0 (landing page) Jacques Colinge
| nebbiolo1 | Linux (Ubuntu 20.04.2 LTS) / x86_64 | OK | OK | WARNINGS | |||||||||
tokay2 | Windows Server 2012 R2 Standard / x64 | OK | OK | WARNINGS | OK | |||||||||
machv2 | macOS 10.14.6 Mojave / x86_64 | OK | OK | WARNINGS | OK | |||||||||
Package: SingleCellSignalR |
Version: 1.4.0 |
Command: rm -rf SingleCellSignalR.buildbin-libdir && mkdir SingleCellSignalR.buildbin-libdir && C:\Users\biocbuild\bbs-3.13-bioc\R\bin\R.exe CMD INSTALL --merge-multiarch --build --library=SingleCellSignalR.buildbin-libdir SingleCellSignalR_1.4.0.tar.gz |
StartedAt: 2021-10-15 11:50:40 -0400 (Fri, 15 Oct 2021) |
EndedAt: 2021-10-15 11:52:34 -0400 (Fri, 15 Oct 2021) |
EllapsedTime: 114.0 seconds |
RetCode: 0 |
Status: OK |
PackageFile: SingleCellSignalR_1.4.0.zip |
PackageFileSize: 5.89 MiB |
############################################################################## ############################################################################## ### ### Running command: ### ### rm -rf SingleCellSignalR.buildbin-libdir && mkdir SingleCellSignalR.buildbin-libdir && C:\Users\biocbuild\bbs-3.13-bioc\R\bin\R.exe CMD INSTALL --merge-multiarch --build --library=SingleCellSignalR.buildbin-libdir SingleCellSignalR_1.4.0.tar.gz ### ############################################################################## ############################################################################## install for i386 * installing *source* package 'SingleCellSignalR' ... ** using staged installation ** R ** data *** moving datasets to lazyload DB ** inst ** byte-compile and prepare package for lazy loading ** help *** installing help indices converting help for package 'SingleCellSignalR' finding HTML links ... done LRdb html LRscore html PwC_ReactomeKEGG html cell_classifier html cell_signaling html cluster_analysis html clustering html data_prepare html example_dataset html expression_plot html expression_plot_2 html inter_network html intra_network html markers html markers_default html mm2Hs html mv_interactions html simplify_interactions html visualize_interactions html ** building package indices ** installing vignettes ** testing if installed package can be loaded from temporary location ** testing if installed package can be loaded from final location ** testing if installed package keeps a record of temporary installation path install for x64 * installing *source* package 'SingleCellSignalR' ... ** testing if installed package can be loaded * MD5 sums packaged installation of 'SingleCellSignalR' as SingleCellSignalR_1.4.0.zip * DONE (SingleCellSignalR)