Back to Multiple platform build/check report for BioC 3.13 |
|
This page was generated on 2021-10-15 15:06:21 -0400 (Fri, 15 Oct 2021).
To the developers/maintainers of the SCAN.UPC package: - Please allow up to 24 hours (and sometimes 48 hours) for your latest push to git@git.bioconductor.org:packages/SCAN.UPC.git to reflect on this report. See How and When does the builder pull? When will my changes propagate? here for more information. - Make sure to use the following settings in order to reproduce any error or warning you see on this page. |
Package 1680/2041 | Hostname | OS / Arch | INSTALL | BUILD | CHECK | BUILD BIN | ||||||||
SCAN.UPC 2.34.0 (landing page) Stephen R. Piccolo
| nebbiolo1 | Linux (Ubuntu 20.04.2 LTS) / x86_64 | OK | OK | OK | |||||||||
tokay2 | Windows Server 2012 R2 Standard / x64 | OK | OK | OK | OK | |||||||||
machv2 | macOS 10.14.6 Mojave / x86_64 | OK | OK | OK | OK | |||||||||
Package: SCAN.UPC |
Version: 2.34.0 |
Command: C:\cygwin\bin\curl.exe -O http://155.52.207.165/BBS/3.13/bioc/src/contrib/SCAN.UPC_2.34.0.tar.gz && rm -rf SCAN.UPC.buildbin-libdir && mkdir SCAN.UPC.buildbin-libdir && C:\Users\biocbuild\bbs-3.13-bioc\R\bin\R.exe CMD INSTALL --merge-multiarch --build --library=SCAN.UPC.buildbin-libdir SCAN.UPC_2.34.0.tar.gz && C:\Users\biocbuild\bbs-3.13-bioc\R\bin\R.exe CMD INSTALL SCAN.UPC_2.34.0.zip && rm SCAN.UPC_2.34.0.tar.gz SCAN.UPC_2.34.0.zip |
StartedAt: 2021-10-14 09:49:23 -0400 (Thu, 14 Oct 2021) |
EndedAt: 2021-10-14 09:50:49 -0400 (Thu, 14 Oct 2021) |
EllapsedTime: 86.1 seconds |
RetCode: 0 |
Status: OK |
############################################################################## ############################################################################## ### ### Running command: ### ### C:\cygwin\bin\curl.exe -O http://155.52.207.165/BBS/3.13/bioc/src/contrib/SCAN.UPC_2.34.0.tar.gz && rm -rf SCAN.UPC.buildbin-libdir && mkdir SCAN.UPC.buildbin-libdir && C:\Users\biocbuild\bbs-3.13-bioc\R\bin\R.exe CMD INSTALL --merge-multiarch --build --library=SCAN.UPC.buildbin-libdir SCAN.UPC_2.34.0.tar.gz && C:\Users\biocbuild\bbs-3.13-bioc\R\bin\R.exe CMD INSTALL SCAN.UPC_2.34.0.zip && rm SCAN.UPC_2.34.0.tar.gz SCAN.UPC_2.34.0.zip ### ############################################################################## ############################################################################## % Total % Received % Xferd Average Speed Time Time Time Current Dload Upload Total Spent Left Speed 0 0 0 0 0 0 0 0 --:--:-- --:--:-- --:--:-- 0 1 275k 1 5189 0 0 60055 0 0:00:04 --:--:-- 0:00:04 60337 100 275k 100 275k 0 0 1015k 0 --:--:-- --:--:-- --:--:-- 1016k install for i386 * installing *source* package 'SCAN.UPC' ... ** using staged installation ** R ** inst ** byte-compile and prepare package for lazy loading Parallel computing support for 'oligo/crlmm': Disabled - Load 'ff' - Load and register a 'foreach' adaptor Example - Using 'multicore' for 2 cores: library(doMC) registerDoMC(2) ================================================================================ ** help *** installing help indices converting help for package 'SCAN.UPC' finding HTML links ... done BatchAdjust html BatchAdjustFromFile html InstallBrainArrayPackage html ParseMetaFromGtfFile html SCAN html SCAN_TwoColor html UPC_Generic html UPC_Generic_ExpressionSet html UPC_RNASeq html UPC_RNASeq_Single html UPC_TwoColor html ** building package indices ** installing vignettes ** testing if installed package can be loaded from temporary location Parallel computing support for 'oligo/crlmm': Disabled - Load 'ff' - Load and register a 'foreach' adaptor Example - Using 'multicore' for 2 cores: library(doMC) registerDoMC(2) ================================================================================ ** testing if installed package can be loaded from final location Parallel computing support for 'oligo/crlmm': Disabled - Load 'ff' - Load and register a 'foreach' adaptor Example - Using 'multicore' for 2 cores: library(doMC) registerDoMC(2) ================================================================================ ** testing if installed package keeps a record of temporary installation path install for x64 * installing *source* package 'SCAN.UPC' ... ** testing if installed package can be loaded Parallel computing support for 'oligo/crlmm': Disabled - Load 'ff' - Load and register a 'foreach' adaptor Example - Using 'multicore' for 2 cores: library(doMC) registerDoMC(2) ================================================================================ * MD5 sums packaged installation of 'SCAN.UPC' as SCAN.UPC_2.34.0.zip * DONE (SCAN.UPC) * installing to library 'C:/Users/biocbuild/bbs-3.13-bioc/R/library' package 'SCAN.UPC' successfully unpacked and MD5 sums checked