Back to Multiple platform build/check report for BioC 3.13 |
|
This page was generated on 2021-10-15 15:06:17 -0400 (Fri, 15 Oct 2021).
To the developers/maintainers of the PROPS package: - Please allow up to 24 hours (and sometimes 48 hours) for your latest push to git@git.bioconductor.org:packages/PROPS.git to reflect on this report. See How and When does the builder pull? When will my changes propagate? here for more information. - Make sure to use the following settings in order to reproduce any error or warning you see on this page. |
Package 1447/2041 | Hostname | OS / Arch | INSTALL | BUILD | CHECK | BUILD BIN | ||||||||
PROPS 1.14.0 (landing page) Lichy Han
| nebbiolo1 | Linux (Ubuntu 20.04.2 LTS) / x86_64 | OK | OK | OK | |||||||||
tokay2 | Windows Server 2012 R2 Standard / x64 | OK | OK | OK | OK | |||||||||
machv2 | macOS 10.14.6 Mojave / x86_64 | OK | OK | OK | OK | |||||||||
Package: PROPS |
Version: 1.14.0 |
Command: rm -rf PROPS.buildbin-libdir && mkdir PROPS.buildbin-libdir && C:\Users\biocbuild\bbs-3.13-bioc\R\bin\R.exe CMD INSTALL --merge-multiarch --build --library=PROPS.buildbin-libdir PROPS_1.14.0.tar.gz |
StartedAt: 2021-10-15 11:06:23 -0400 (Fri, 15 Oct 2021) |
EndedAt: 2021-10-15 11:07:46 -0400 (Fri, 15 Oct 2021) |
EllapsedTime: 83.1 seconds |
RetCode: 0 |
Status: OK |
PackageFile: PROPS_1.14.0.zip |
PackageFileSize: 3.614 MiB |
############################################################################## ############################################################################## ### ### Running command: ### ### rm -rf PROPS.buildbin-libdir && mkdir PROPS.buildbin-libdir && C:\Users\biocbuild\bbs-3.13-bioc\R\bin\R.exe CMD INSTALL --merge-multiarch --build --library=PROPS.buildbin-libdir PROPS_1.14.0.tar.gz ### ############################################################################## ############################################################################## install for i386 * installing *source* package 'PROPS' ... ** using staged installation ** R ** data ** inst ** byte-compile and prepare package for lazy loading ** help *** installing help indices converting help for package 'PROPS' finding HTML links ... done PROPS-package html example_data html example_edges html example_healthy html kegg_pathway_edges html props html REDIRECT:topic Previous alias or file overwritten by alias: C:/Users/biocbuild/bbs-3.13-bioc/meat/PROPS.buildbin-libdir/00LOCK-PROPS/00new/PROPS/help/props.html ** building package indices ** installing vignettes ** testing if installed package can be loaded from temporary location ** testing if installed package can be loaded from final location ** testing if installed package keeps a record of temporary installation path install for x64 * installing *source* package 'PROPS' ... ** testing if installed package can be loaded * MD5 sums packaged installation of 'PROPS' as PROPS_1.14.0.zip * DONE (PROPS)