Back to Multiple platform build/check report for BioC 3.13 |
|
This page was generated on 2021-10-15 15:06:16 -0400 (Fri, 15 Oct 2021).
To the developers/maintainers of the POST package: - Please allow up to 24 hours (and sometimes 48 hours) for your latest push to git@git.bioconductor.org:packages/POST.git to reflect on this report. See How and When does the builder pull? When will my changes propagate? here for more information. - Make sure to use the following settings in order to reproduce any error or warning you see on this page. |
Package 1415/2041 | Hostname | OS / Arch | INSTALL | BUILD | CHECK | BUILD BIN | ||||||||
Xueyuan Cao
| nebbiolo1 | Linux (Ubuntu 20.04.2 LTS) / x86_64 | OK | ERROR | skipped | |||||||||
tokay2 | Windows Server 2012 R2 Standard / x64 | OK | ERROR | skipped | skipped | |||||||||
machv2 | macOS 10.14.6 Mojave / x86_64 | OK | ERROR | skipped | skipped | |||||||||
Package: POST |
Version: 1.16.0 |
Command: C:\cygwin\bin\curl.exe -O http://155.52.207.165/BBS/3.13/bioc/src/contrib/POST_1.16.0.tar.gz && rm -rf POST.buildbin-libdir && mkdir POST.buildbin-libdir && C:\Users\biocbuild\bbs-3.13-bioc\R\bin\R.exe CMD INSTALL --merge-multiarch --build --library=POST.buildbin-libdir POST_1.16.0.tar.gz && C:\Users\biocbuild\bbs-3.13-bioc\R\bin\R.exe CMD INSTALL POST_1.16.0.zip && rm POST_1.16.0.tar.gz POST_1.16.0.zip |
StartedAt: 2021-10-14 09:20:34 -0400 (Thu, 14 Oct 2021) |
EndedAt: 2021-10-14 09:21:05 -0400 (Thu, 14 Oct 2021) |
EllapsedTime: 30.8 seconds |
RetCode: 0 |
Status: OK |
############################################################################## ############################################################################## ### ### Running command: ### ### C:\cygwin\bin\curl.exe -O http://155.52.207.165/BBS/3.13/bioc/src/contrib/POST_1.16.0.tar.gz && rm -rf POST.buildbin-libdir && mkdir POST.buildbin-libdir && C:\Users\biocbuild\bbs-3.13-bioc\R\bin\R.exe CMD INSTALL --merge-multiarch --build --library=POST.buildbin-libdir POST_1.16.0.tar.gz && C:\Users\biocbuild\bbs-3.13-bioc\R\bin\R.exe CMD INSTALL POST_1.16.0.zip && rm POST_1.16.0.tar.gz POST_1.16.0.zip ### ############################################################################## ############################################################################## % Total % Received % Xferd Average Speed Time Time Time Current Dload Upload Total Spent Left Speed 0 0 0 0 0 0 0 0 --:--:-- --:--:-- --:--:-- 0 100 27344 100 27344 0 0 228k 0 --:--:-- --:--:-- --:--:-- 230k install for i386 * installing *source* package 'POST' ... ** using staged installation ** R ** data ** byte-compile and prepare package for lazy loading Note: break used in wrong context: no loop is visible Note: break used in wrong context: no loop is visible ** help *** installing help indices converting help for package 'POST' finding HTML links ... done POST-package html POSTcoxph html POSTglm html sampExprSet html sampGeneSet html ** building package indices ** installing vignettes ** testing if installed package can be loaded from temporary location Warning: Package 'POST' is deprecated and will be removed from Bioconductor version 3.14 ** testing if installed package can be loaded from final location Warning: Package 'POST' is deprecated and will be removed from Bioconductor version 3.14 ** testing if installed package keeps a record of temporary installation path install for x64 * installing *source* package 'POST' ... ** testing if installed package can be loaded Warning: Package 'POST' is deprecated and will be removed from Bioconductor version 3.14 * MD5 sums packaged installation of 'POST' as POST_1.16.0.zip * DONE (POST) * installing to library 'C:/Users/biocbuild/bbs-3.13-bioc/R/library' package 'POST' successfully unpacked and MD5 sums checked