Back to Multiple platform build/check report for BioC 3.13 |
|
This page was generated on 2021-10-15 15:06:06 -0400 (Fri, 15 Oct 2021).
To the developers/maintainers of the GmicR package: - Please allow up to 24 hours (and sometimes 48 hours) for your latest push to git@git.bioconductor.org:packages/GmicR.git to reflect on this report. See How and When does the builder pull? When will my changes propagate? here for more information. - Make sure to use the following settings in order to reproduce any error or warning you see on this page. |
Package 781/2041 | Hostname | OS / Arch | INSTALL | BUILD | CHECK | BUILD BIN | ||||||||
GmicR 1.6.0 (landing page) Richard Virgen-Slane
| nebbiolo1 | Linux (Ubuntu 20.04.2 LTS) / x86_64 | OK | OK | OK | |||||||||
tokay2 | Windows Server 2012 R2 Standard / x64 | OK | OK | OK | OK | |||||||||
machv2 | macOS 10.14.6 Mojave / x86_64 | OK | OK | OK | OK | |||||||||
Package: GmicR |
Version: 1.6.0 |
Command: rm -rf GmicR.buildbin-libdir && mkdir GmicR.buildbin-libdir && C:\Users\biocbuild\bbs-3.13-bioc\R\bin\R.exe CMD INSTALL --merge-multiarch --build --library=GmicR.buildbin-libdir GmicR_1.6.0.tar.gz |
StartedAt: 2021-10-15 09:37:45 -0400 (Fri, 15 Oct 2021) |
EndedAt: 2021-10-15 09:39:07 -0400 (Fri, 15 Oct 2021) |
EllapsedTime: 82.5 seconds |
RetCode: 0 |
Status: OK |
PackageFile: GmicR_1.6.0.zip |
PackageFileSize: 3.466 MiB |
############################################################################## ############################################################################## ### ### Running command: ### ### rm -rf GmicR.buildbin-libdir && mkdir GmicR.buildbin-libdir && C:\Users\biocbuild\bbs-3.13-bioc\R\bin\R.exe CMD INSTALL --merge-multiarch --build --library=GmicR.buildbin-libdir GmicR_1.6.0.tar.gz ### ############################################################################## ############################################################################## install for i386 * installing *source* package 'GmicR' ... ** using staged installation ** R ** inst ** byte-compile and prepare package for lazy loading ** help *** installing help indices converting help for package 'GmicR' finding HTML links ... done Auto_WGCNA html Batch_Net html Data_Prep html GO_Module_NameR html GSEAGO_Builder html Gmic_viz html InverseARCs html Query_Prep html bn_tabu_gen html xCell_loader html ** building package indices ** installing vignettes ** testing if installed package can be loaded from temporary location ** testing if installed package can be loaded from final location ** testing if installed package keeps a record of temporary installation path install for x64 * installing *source* package 'GmicR' ... not using staged install with --libs-only ** testing if installed package can be loaded * MD5 sums packaged installation of 'GmicR' as GmicR_1.6.0.zip * DONE (GmicR)