Back to Multiple platform build/check report for BioC 3.13 |
|
This page was generated on 2021-10-15 15:06:05 -0400 (Fri, 15 Oct 2021).
To the developers/maintainers of the GeneExpressionSignature package: - Please allow up to 24 hours (and sometimes 48 hours) for your latest push to git@git.bioconductor.org:packages/GeneExpressionSignature.git to reflect on this report. See How and When does the builder pull? When will my changes propagate? here for more information. - Make sure to use the following settings in order to reproduce any error or warning you see on this page. |
Package 712/2041 | Hostname | OS / Arch | INSTALL | BUILD | CHECK | BUILD BIN | ||||||||
GeneExpressionSignature 1.38.0 (landing page) Yang Cao
| nebbiolo1 | Linux (Ubuntu 20.04.2 LTS) / x86_64 | OK | OK | OK | |||||||||
tokay2 | Windows Server 2012 R2 Standard / x64 | OK | OK | OK | OK | |||||||||
machv2 | macOS 10.14.6 Mojave / x86_64 | OK | ERROR | skipped | skipped | |||||||||
Package: GeneExpressionSignature |
Version: 1.38.0 |
Command: C:\cygwin\bin\curl.exe -O http://155.52.207.165/BBS/3.13/bioc/src/contrib/GeneExpressionSignature_1.38.0.tar.gz && rm -rf GeneExpressionSignature.buildbin-libdir && mkdir GeneExpressionSignature.buildbin-libdir && C:\Users\biocbuild\bbs-3.13-bioc\R\bin\R.exe CMD INSTALL --merge-multiarch --build --library=GeneExpressionSignature.buildbin-libdir GeneExpressionSignature_1.38.0.tar.gz && C:\Users\biocbuild\bbs-3.13-bioc\R\bin\R.exe CMD INSTALL GeneExpressionSignature_1.38.0.zip && rm GeneExpressionSignature_1.38.0.tar.gz GeneExpressionSignature_1.38.0.zip |
StartedAt: 2021-10-14 08:41:01 -0400 (Thu, 14 Oct 2021) |
EndedAt: 2021-10-14 08:41:44 -0400 (Thu, 14 Oct 2021) |
EllapsedTime: 42.3 seconds |
RetCode: 0 |
Status: OK |
############################################################################## ############################################################################## ### ### Running command: ### ### C:\cygwin\bin\curl.exe -O http://155.52.207.165/BBS/3.13/bioc/src/contrib/GeneExpressionSignature_1.38.0.tar.gz && rm -rf GeneExpressionSignature.buildbin-libdir && mkdir GeneExpressionSignature.buildbin-libdir && C:\Users\biocbuild\bbs-3.13-bioc\R\bin\R.exe CMD INSTALL --merge-multiarch --build --library=GeneExpressionSignature.buildbin-libdir GeneExpressionSignature_1.38.0.tar.gz && C:\Users\biocbuild\bbs-3.13-bioc\R\bin\R.exe CMD INSTALL GeneExpressionSignature_1.38.0.zip && rm GeneExpressionSignature_1.38.0.tar.gz GeneExpressionSignature_1.38.0.zip ### ############################################################################## ############################################################################## % Total % Received % Xferd Average Speed Time Time Time Current Dload Upload Total Spent Left Speed 0 0 0 0 0 0 0 0 --:--:-- --:--:-- --:--:-- 0 0 2323k 0 13405 0 0 84549 0 0:00:28 --:--:-- 0:00:28 84308 65 2323k 65 1523k 0 0 1321k 0 0:00:01 0:00:01 --:--:-- 1320k 100 2323k 100 2323k 0 0 1562k 0 0:00:01 0:00:01 --:--:-- 1562k install for i386 * installing *source* package 'GeneExpressionSignature' ... ** using staged installation ** R ** data ** inst ** byte-compile and prepare package for lazy loading ** help *** installing help indices converting help for package 'GeneExpressionSignature' finding HTML links ... done GeneExpressionSignature html RankMerging html ScoreGSEA html ScorePGSEA html SignatureDistance html exampleSet html getRLs html ** building package indices ** installing vignettes ** testing if installed package can be loaded from temporary location ** testing if installed package can be loaded from final location ** testing if installed package keeps a record of temporary installation path install for x64 * installing *source* package 'GeneExpressionSignature' ... ** testing if installed package can be loaded * MD5 sums packaged installation of 'GeneExpressionSignature' as GeneExpressionSignature_1.38.0.zip * DONE (GeneExpressionSignature) * installing to library 'C:/Users/biocbuild/bbs-3.13-bioc/R/library' package 'GeneExpressionSignature' successfully unpacked and MD5 sums checked