Back to Build/check report for BioC 3.10 experimental data |
This page was generated on 2020-04-14 17:46:25 -0400 (Tue, 14 Apr 2020).
Package 182/384 | Hostname | OS / Arch | INSTALL | BUILD | CHECK | ||||||
IHWpaper 1.14.0 Nikos Ignatiadis
| malbec1 | Linux (Ubuntu 18.04.4 LTS) / x86_64 | OK | [ OK ] | OK |
Package: IHWpaper |
Version: 1.14.0 |
Command: /home/biocbuild/bbs-3.10-bioc/R/bin/R CMD build --keep-empty-dirs --no-resave-data IHWpaper |
StartedAt: 2020-04-14 12:12:19 -0400 (Tue, 14 Apr 2020) |
EndedAt: 2020-04-14 12:16:22 -0400 (Tue, 14 Apr 2020) |
EllapsedTime: 242.2 seconds |
RetCode: 0 |
Status: OK |
PackageFile: IHWpaper_1.14.0.tar.gz |
PackageFileSize: 76 MiB |
############################################################################## ############################################################################## ### ### Running command: ### ### /home/biocbuild/bbs-3.10-bioc/R/bin/R CMD build --keep-empty-dirs --no-resave-data IHWpaper ### ############################################################################## ############################################################################## * checking for file ‘IHWpaper/DESCRIPTION’ ... OK * preparing ‘IHWpaper’: * checking DESCRIPTION meta-information ... OK * cleaning src * installing the package to build vignettes * creating vignettes ... OK * cleaning src * checking for LF line-endings in source and make files and shell scripts * checking for empty or unneeded directories * building ‘IHWpaper_1.14.0.tar.gz’