Back to Multiple platform build/check report for BioC 3.10 |
|
This page was generated on 2020-04-15 12:32:24 -0400 (Wed, 15 Apr 2020).
Package 735/1823 | Hostname | OS / Arch | INSTALL | BUILD | CHECK | BUILD BIN | ||||||
gpuMagic 1.2.0 Jiefei Wang
| malbec1 | Linux (Ubuntu 18.04.4 LTS) / x86_64 | ...NOT SUPPORTED... | |||||||||
tokay1 | Windows Server 2012 R2 Standard / x64 | [ ERROR ] | ERROR | skipped | skipped | |||||||
merida1 | OS X 10.11.6 El Capitan / x86_64 | OK | OK | OK | OK |
Package: gpuMagic |
Version: 1.2.0 |
Command: C:\cygwin\bin\curl.exe -O https://malbec1.bioconductor.org/BBS/3.10/bioc/src/contrib/gpuMagic_1.2.0.tar.gz && rm -rf gpuMagic.buildbin-libdir && mkdir gpuMagic.buildbin-libdir && C:\Users\biocbuild\bbs-3.10-bioc\R\bin\R.exe CMD INSTALL --merge-multiarch --build --library=gpuMagic.buildbin-libdir gpuMagic_1.2.0.tar.gz && C:\Users\biocbuild\bbs-3.10-bioc\R\bin\R.exe CMD INSTALL gpuMagic_1.2.0.zip && rm gpuMagic_1.2.0.tar.gz gpuMagic_1.2.0.zip |
StartedAt: 2020-04-14 20:21:40 -0400 (Tue, 14 Apr 2020) |
EndedAt: 2020-04-14 20:21:58 -0400 (Tue, 14 Apr 2020) |
EllapsedTime: 17.4 seconds |
RetCode: 1 |
Status: ERROR |
############################################################################## ############################################################################## ### ### Running command: ### ### C:\cygwin\bin\curl.exe -O https://malbec1.bioconductor.org/BBS/3.10/bioc/src/contrib/gpuMagic_1.2.0.tar.gz && rm -rf gpuMagic.buildbin-libdir && mkdir gpuMagic.buildbin-libdir && C:\Users\biocbuild\bbs-3.10-bioc\R\bin\R.exe CMD INSTALL --merge-multiarch --build --library=gpuMagic.buildbin-libdir gpuMagic_1.2.0.tar.gz && C:\Users\biocbuild\bbs-3.10-bioc\R\bin\R.exe CMD INSTALL gpuMagic_1.2.0.zip && rm gpuMagic_1.2.0.tar.gz gpuMagic_1.2.0.zip ### ############################################################################## ############################################################################## % Total % Received % Xferd Average Speed Time Time Time Current Dload Upload Total Spent Left Speed 0 0 0 0 0 0 0 0 --:--:-- --:--:-- --:--:-- 0 100 130k 100 130k 0 0 1721k 0 --:--:-- --:--:-- --:--:-- 1834k install for i386 * installing *source* package 'gpuMagic' ... ** using staged installation ** libs C:/Rtools/mingw_32/bin/g++ -std=gnu++11 -I"C:/Users/BIOCBU~1/BBS-3~1.10-/R/include" -DNDEBUG -IC:/Users/BIOCBU~1/BBS-3~1.10-/R/include -I../inst/include/inc -DCL_TARGET_OPENCL_VERSION=220 -DCL_USE_DEPRECATED_OPENCL_1_2_APIS -I"C:/Users/biocbuild/bbs-3.10-bioc/R/library/Rcpp/include" -I"C:/extsoft/include" -O2 -Wall -mtune=core2 -c C_Interface.cpp -o C_Interface.o C:/Rtools/mingw_32/bin/g++ -std=gnu++11 -I"C:/Users/BIOCBU~1/BBS-3~1.10-/R/include" -DNDEBUG -IC:/Users/BIOCBU~1/BBS-3~1.10-/R/include -I../inst/include/inc -DCL_TARGET_OPENCL_VERSION=220 -DCL_USE_DEPRECATED_OPENCL_1_2_APIS -I"C:/Users/biocbuild/bbs-3.10-bioc/R/library/Rcpp/include" -I"C:/extsoft/include" -O2 -Wall -mtune=core2 -c R_functionRegistration.cpp -o R_functionRegistration.o C:/Rtools/mingw_32/bin/g++ -std=gnu++11 -I"C:/Users/BIOCBU~1/BBS-3~1.10-/R/include" -DNDEBUG -IC:/Users/BIOCBU~1/BBS-3~1.10-/R/include -I../inst/include/inc -DCL_TARGET_OPENCL_VERSION=220 -DCL_USE_DEPRECATED_OPENCL_1_2_APIS -I"C:/Users/biocbuild/bbs-3.10-bioc/R/library/Rcpp/include" -I"C:/extsoft/include" -O2 -Wall -mtune=core2 -c Tools.cpp -o Tools.o C:/Rtools/mingw_32/bin/g++ -std=gnu++11 -I"C:/Users/BIOCBU~1/BBS-3~1.10-/R/include" -DNDEBUG -IC:/Users/BIOCBU~1/BBS-3~1.10-/R/include -I../inst/include/inc -DCL_TARGET_OPENCL_VERSION=220 -DCL_USE_DEPRECATED_OPENCL_1_2_APIS -I"C:/Users/biocbuild/bbs-3.10-bioc/R/library/Rcpp/include" -I"C:/extsoft/include" -O2 -Wall -mtune=core2 -c kernelManager.cpp -o kernelManager.o C:/Rtools/mingw_32/bin/g++ -std=gnu++11 -I"C:/Users/BIOCBU~1/BBS-3~1.10-/R/include" -DNDEBUG -IC:/Users/BIOCBU~1/BBS-3~1.10-/R/include -I../inst/include/inc -DCL_TARGET_OPENCL_VERSION=220 -DCL_USE_DEPRECATED_OPENCL_1_2_APIS -I"C:/Users/biocbuild/bbs-3.10-bioc/R/library/Rcpp/include" -I"C:/extsoft/include" -O2 -Wall -mtune=core2 -c openArray.cpp -o openArray.o C:/Rtools/mingw_32/bin/g++ -shared -s -static-libgcc -o gpuMagic.dll tmp.def C_Interface.o R_functionRegistration.o Tools.o kernelManager.o openArray.o C:\Windows/System32/OpenCL.dll -LC:/extsoft/lib/i386 -LC:/extsoft/lib -LC:/Users/BIOCBU~1/BBS-3~1.10-/R/bin/i386 -lR g++.exe: error: C:\Windows/System32/OpenCL.dll: No such file or directory no DLL was created ERROR: compilation failed for package 'gpuMagic' * removing 'C:/Users/biocbuild/bbs-3.10-bioc/meat/gpuMagic.buildbin-libdir/gpuMagic'