Back to Multiple platform build/check report for BioC 3.10 |
|
This page was generated on 2020-04-15 12:33:11 -0400 (Wed, 15 Apr 2020).
Package 600/1823 | Hostname | OS / Arch | INSTALL | BUILD | CHECK | BUILD BIN | ||||||
flowSpecs 1.0.2 Jakob Theorell
| malbec1 | Linux (Ubuntu 18.04.4 LTS) / x86_64 | OK | OK | OK | |||||||
tokay1 | Windows Server 2012 R2 Standard / x64 | OK | OK | OK | [ OK ] | |||||||
merida1 | OS X 10.11.6 El Capitan / x86_64 | OK | OK | OK | OK |
Package: flowSpecs |
Version: 1.0.2 |
Command: rm -rf flowSpecs.buildbin-libdir && mkdir flowSpecs.buildbin-libdir && C:\Users\biocbuild\bbs-3.10-bioc\R\bin\R.exe CMD INSTALL --merge-multiarch --build --library=flowSpecs.buildbin-libdir flowSpecs_1.0.2.tar.gz |
StartedAt: 2020-04-15 08:44:19 -0400 (Wed, 15 Apr 2020) |
EndedAt: 2020-04-15 08:45:01 -0400 (Wed, 15 Apr 2020) |
EllapsedTime: 41.5 seconds |
RetCode: 0 |
Status: OK |
PackageFile: flowSpecs_1.0.2.zip |
PackageFileSize: 3.308 MiB |
############################################################################## ############################################################################## ### ### Running command: ### ### rm -rf flowSpecs.buildbin-libdir && mkdir flowSpecs.buildbin-libdir && C:\Users\biocbuild\bbs-3.10-bioc\R\bin\R.exe CMD INSTALL --merge-multiarch --build --library=flowSpecs.buildbin-libdir flowSpecs_1.0.2.tar.gz ### ############################################################################## ############################################################################## install for i386 * installing *source* package 'flowSpecs' ... ** using staged installation ** R ** data ** inst ** byte-compile and prepare package for lazy loading ** help *** installing help indices converting help for package 'flowSpecs' finding HTML links ... done appendFFCols html arcTrans html corrMatCreate html correctUnmix html filterOut html flowSet2LongDf html flowSpecs-package html fullPanel html madFilter html newExprs-set html oneVsAllPlot html peakIdenti html plotDownSample html specMat html specMatCalc html specUnmix html unmixCtrls html ** building package indices ** installing vignettes ** testing if installed package can be loaded from temporary location ** testing if installed package can be loaded from final location ** testing if installed package keeps a record of temporary installation path install for x64 * installing *source* package 'flowSpecs' ... ** testing if installed package can be loaded * MD5 sums packaged installation of 'flowSpecs' as flowSpecs_1.0.2.zip * DONE (flowSpecs)