Package: MsDataHub Version: 1.7.0 Command: /home/rapidbuild/bbs-3.21-bioc-rapid/R/bin/R CMD INSTALL MsDataHub StartedAt: 2024-12-22 06:17:11 -0500 (Sun, 22 Dec 2024) EndedAt: 2024-12-22 06:17:22 -0500 (Sun, 22 Dec 2024) EllapsedTime: 11.6 seconds RetCode: 0 Status: OK