Package: sccomp Version: 1.10.0 Command: /Library/Frameworks/R.framework/Resources/bin/R CMD INSTALL sccomp StartedAt: 2024-12-30 16:34:32 -0500 (Mon, 30 Dec 2024) EndedAt: 2024-12-30 16:35:09 -0500 (Mon, 30 Dec 2024) EllapsedTime: 37.0 seconds RetCode: 0 Status: OK