Package: methylSig Version: 1.18.0 Command: /Library/Frameworks/R.framework/Resources/bin/R CMD build --keep-empty-dirs --no-resave-data methylSig StartedAt: 2025-01-20 20:14:25 -0500 (Mon, 20 Jan 2025) EndedAt: 2025-01-20 20:17:47 -0500 (Mon, 20 Jan 2025) EllapsedTime: 201.8 seconds RetCode: 0 Status: OK PackageFile: methylSig_1.18.0.tar.gz PackageFileSize: 492.4 KiB