Package: affy Version: 1.84.0 Command: /Library/Frameworks/R.framework/Resources/bin/R CMD check --install=check:affy.install-out.txt --library=/Library/Frameworks/R.framework/Resources/library --no-vignettes --timings affy_1.84.0.tar.gz StartedAt: 2025-01-20 23:30:22 -0500 (Mon, 20 Jan 2025) EndedAt: 2025-01-20 23:34:46 -0500 (Mon, 20 Jan 2025) EllapsedTime: 264.6 seconds RetCode: 0 Status: WARNINGS CheckDir: affy.Rcheck Warnings: 1