Package: simpIntLists Version: 1.43.0 Command: /home/biocbuild/bbs-3.21-bioc/R/bin/R CMD build --keep-empty-dirs --no-resave-data simpIntLists StartedAt: 2025-02-18 11:39:44 -0500 (Tue, 18 Feb 2025) EndedAt: 2025-02-18 11:39:52 -0500 (Tue, 18 Feb 2025) EllapsedTime: 8.2 seconds RetCode: 0 Status: OK PackageFile: simpIntLists_1.43.0.tar.gz PackageFileSize: 4.366 MiB