Package: scATAC.Explorer Version: 1.13.0 Command: /home/biocbuild/bbs-3.21-bioc/R/bin/R CMD INSTALL scATAC.Explorer StartedAt: 2025-02-13 11:02:47 -0500 (Thu, 13 Feb 2025) EndedAt: 2025-02-13 11:03:13 -0500 (Thu, 13 Feb 2025) EllapsedTime: 25.9 seconds RetCode: 0 Status: OK