Package: humanStemCell Version: 0.47.0 Command: /home/biocbuild/bbs-3.21-bioc/R/bin/R CMD INSTALL humanStemCell StartedAt: 2025-02-18 10:57:19 -0500 (Tue, 18 Feb 2025) EndedAt: 2025-02-18 10:57:28 -0500 (Tue, 18 Feb 2025) EllapsedTime: 8.8 seconds RetCode: 0 Status: OK