Package: curatedBreastData Version: 2.35.0 Command: /home/biocbuild/bbs-3.21-bioc/R/bin/R CMD build --keep-empty-dirs --no-resave-data curatedBreastData StartedAt: 2025-02-18 11:11:37 -0500 (Tue, 18 Feb 2025) EndedAt: 2025-02-18 11:13:14 -0500 (Tue, 18 Feb 2025) EllapsedTime: 96.2 seconds RetCode: 0 Status: OK PackageFile: curatedBreastData_2.35.0.tar.gz PackageFileSize: 283.1 MiB