Package: chipseqDBData Version: 1.23.0 Command: /home/biocbuild/bbs-3.21-bioc/R/bin/R CMD build --keep-empty-dirs --no-resave-data chipseqDBData StartedAt: 2025-02-13 11:09:44 -0500 (Thu, 13 Feb 2025) EndedAt: 2025-02-13 11:10:55 -0500 (Thu, 13 Feb 2025) EllapsedTime: 71.4 seconds RetCode: 0 Status: OK PackageFile: chipseqDBData_1.23.0.tar.gz PackageFileSize: 300.9 KiB