Package: celarefData Version: 1.25.0 Command: /home/biocbuild/bbs-3.21-bioc/R/bin/R CMD build --keep-empty-dirs --no-resave-data celarefData StartedAt: 2025-02-13 11:08:42 -0500 (Thu, 13 Feb 2025) EndedAt: 2025-02-13 11:09:15 -0500 (Thu, 13 Feb 2025) EllapsedTime: 32.7 seconds RetCode: 0 Status: OK PackageFile: celarefData_1.25.0.tar.gz PackageFileSize: 231.4 KiB