Package: cMap2data Version: 1.43.0 Command: /home/biocbuild/bbs-3.21-bioc/R/bin/R CMD check --install=check:cMap2data.install-out.txt --library=/home/biocbuild/bbs-3.21-bioc/R/site-library --timings cMap2data_1.43.0.tar.gz StartedAt: 2025-02-13 11:53:37 -0500 (Thu, 13 Feb 2025) EndedAt: 2025-02-13 11:53:54 -0500 (Thu, 13 Feb 2025) EllapsedTime: 16.6 seconds RetCode: 0 Status: WARNINGS CheckDir: cMap2data.Rcheck Warnings: 1