Package: cMap2data Version: 1.43.0 Command: /home/biocbuild/bbs-3.21-bioc/R/bin/R CMD build --keep-empty-dirs --no-resave-data cMap2data StartedAt: 2025-02-13 11:10:45 -0500 (Thu, 13 Feb 2025) EndedAt: 2025-02-13 11:11:00 -0500 (Thu, 13 Feb 2025) EllapsedTime: 14.6 seconds RetCode: 0 Status: OK PackageFile: cMap2data_1.43.0.tar.gz PackageFileSize: 27.94 MiB