Package: SingleCellMultiModal Version: 1.19.1 Command: /home/biocbuild/bbs-3.21-bioc/R/bin/R CMD check --install=check:SingleCellMultiModal.install-out.txt --library=/home/biocbuild/bbs-3.21-bioc/R/site-library --timings SingleCellMultiModal_1.19.1.tar.gz StartedAt: 2025-02-18 12:42:34 -0500 (Tue, 18 Feb 2025) EndedAt: 2025-02-18 12:53:18 -0500 (Tue, 18 Feb 2025) EllapsedTime: 643.8 seconds RetCode: 0 Status: OK CheckDir: SingleCellMultiModal.Rcheck Warnings: 0