Package: SimBenchData Version: 1.15.0 Command: /home/biocbuild/bbs-3.21-bioc/R/bin/R CMD build --keep-empty-dirs --no-resave-data SimBenchData StartedAt: 2025-02-18 11:39:44 -0500 (Tue, 18 Feb 2025) EndedAt: 2025-02-18 11:40:05 -0500 (Tue, 18 Feb 2025) EllapsedTime: 21.1 seconds RetCode: 0 Status: OK PackageFile: SimBenchData_1.15.0.tar.gz PackageFileSize: 236 KiB