Package: PathNetData Version: 1.43.0 Command: /home/biocbuild/bbs-3.21-bioc/R/bin/R CMD INSTALL PathNetData StartedAt: 2025-02-18 10:55:49 -0500 (Tue, 18 Feb 2025) EndedAt: 2025-02-18 10:55:51 -0500 (Tue, 18 Feb 2025) EllapsedTime: 2.7 seconds RetCode: 0 Status: OK